BEGIN:VCALENDAR
VERSION:2.0
PRODID:-//San Bernardino County Fire Protection District - ECPv6.15.14//NONSGML v1.0//EN
CALSCALE:GREGORIAN
METHOD:PUBLISH
X-ORIGINAL-URL:https://sbcfire.org
X-WR-CALDESC:Events for San Bernardino County Fire Protection District
REFRESH-INTERVAL;VALUE=DURATION:PT1H
X-Robots-Tag:noindex
X-PUBLISHED-TTL:PT1H
BEGIN:VTIMEZONE
TZID:America/Los_Angeles
BEGIN:DAYLIGHT
TZOFFSETFROM:-0800
TZOFFSETTO:-0700
TZNAME:PDT
DTSTART:20200308T100000
END:DAYLIGHT
BEGIN:STANDARD
TZOFFSETFROM:-0700
TZOFFSETTO:-0800
TZNAME:PST
DTSTART:20201101T090000
END:STANDARD
BEGIN:DAYLIGHT
TZOFFSETFROM:-0800
TZOFFSETTO:-0700
TZNAME:PDT
DTSTART:20210314T100000
END:DAYLIGHT
BEGIN:STANDARD
TZOFFSETFROM:-0700
TZOFFSETTO:-0800
TZNAME:PST
DTSTART:20211107T090000
END:STANDARD
BEGIN:DAYLIGHT
TZOFFSETFROM:-0800
TZOFFSETTO:-0700
TZNAME:PDT
DTSTART:20220313T100000
END:DAYLIGHT
BEGIN:STANDARD
TZOFFSETFROM:-0700
TZOFFSETTO:-0800
TZNAME:PST
DTSTART:20221106T090000
END:STANDARD
BEGIN:DAYLIGHT
TZOFFSETFROM:-0800
TZOFFSETTO:-0700
TZNAME:PDT
DTSTART:20230312T100000
END:DAYLIGHT
BEGIN:STANDARD
TZOFFSETFROM:-0700
TZOFFSETTO:-0800
TZNAME:PST
DTSTART:20231105T090000
END:STANDARD
BEGIN:DAYLIGHT
TZOFFSETFROM:-0800
TZOFFSETTO:-0700
TZNAME:PDT
DTSTART:20240310T100000
END:DAYLIGHT
BEGIN:STANDARD
TZOFFSETFROM:-0700
TZOFFSETTO:-0800
TZNAME:PST
DTSTART:20241103T090000
END:STANDARD
BEGIN:DAYLIGHT
TZOFFSETFROM:-0800
TZOFFSETTO:-0700
TZNAME:PDT
DTSTART:20250309T100000
END:DAYLIGHT
BEGIN:STANDARD
TZOFFSETFROM:-0700
TZOFFSETTO:-0800
TZNAME:PST
DTSTART:20251102T090000
END:STANDARD
END:VTIMEZONE
BEGIN:VEVENT
DTSTART;TZID=America/Los_Angeles:20241214T100000
DTEND;TZID=America/Los_Angeles:20241214T150000
DTSTAMP:20260423T053625
CREATED:20241203T235946Z
LAST-MODIFIED:20241213T000418Z
UID:10014462-1734170400-1734188400@sbcfire.org
SUMMARY:Spark of Love: Upland
DESCRIPTION:#SBCoFD is once again participating in the ABC7 Spark of Love Toy Drive. \nBring an unwrapped toy to help a child in need. You may bring a cash or toy donation. \nThe campaign collects new\, unwrapped toys and sports equipment for under served children and teens in Los Angeles\, San Bernardino\, Orange\, Ventura and Riverside counties. Toys collected in the respective counties are distributed locally. \nThis nationwide program is celebrating over 70 years of collecting and distributing toys. With firefighters and Marines standing side by side\, we believe this will be the biggest Spark of Love yet.
URL:https://sbcfire.org/event/spark-of-love-upland-3/
LOCATION:The Colonies Crossroads\, 1931 N Campus Ave\, Upland\, CA\, 91784\, United States
CATEGORIES:Spark of Love
ATTACH;FMTTYPE=image/jpeg:https://sbcfire.org/wp-content/uploads/sites/46/2024/12/SoL_2024_Dec14_Upland_1920x1080.jpg
END:VEVENT
BEGIN:VEVENT
DTSTART;TZID=America/Los_Angeles:20241130T100000
DTEND;TZID=America/Los_Angeles:20241130T150000
DTSTAMP:20260423T053625
CREATED:20241126T211541Z
LAST-MODIFIED:20241126T211541Z
UID:10014437-1732960800-1732978800@sbcfire.org
SUMMARY:Spark of Love: Upland
DESCRIPTION:#SBCoFD is once again participating in the ABC7 Spark of Love Toy Drive. \nBring an unwrapped toy to help a child in need. You may bring a cash or toy donation. \nThe campaign collects new\, unwrapped toys and sports equipment for under served children and teens in Los Angeles\, San Bernardino\, Orange\, Ventura and Riverside counties. Toys collected in the respective counties are distributed locally. \nThis nationwide program is celebrating over 70 years of collecting and distributing toys. With firefighters and Marines standing side by side\, we believe this will be the biggest Spark of Love yet.
URL:https://sbcfire.org/event/spark-of-love-upland-2/
LOCATION:The Colonies Crossroads\, 1931 N Campus Ave\, Upland\, CA\, 91784\, United States
CATEGORIES:Spark of Love
ATTACH;FMTTYPE=image/jpeg:https://sbcfire.org/wp-content/uploads/sites/46/2024/11/SoL_2024_Nov30_Upland_1920x1005.jpg
END:VEVENT
BEGIN:VEVENT
DTSTART;TZID=America/Los_Angeles:20231203T100000
DTEND;TZID=America/Los_Angeles:20231203T140000
DTSTAMP:20260423T053625
CREATED:20231127T194136Z
LAST-MODIFIED:20231127T194136Z
UID:10008756-1701597600-1701612000@sbcfire.org
SUMMARY:Spark of Love: Upland
DESCRIPTION:#SBCoFD is once again participating in the ABC7 Spark of Love Toy Drive. \nBring an unwrapped toy to help a child in need. You may bring a cash or toy donation. \nThe campaign collects new\, unwrapped toys and sports equipment for under served children and teens in Los Angeles\, San Bernardino\, Orange\, Ventura and Riverside counties. Toys collected in the respective counties are distributed locally. \nThis nationwide program is celebrating over 70 years of collecting and distributing toys. With firefighters and Marines standing side by side\, we believe this will be the biggest Spark of Love yet.
URL:https://sbcfire.org/event/spark-of-love-upland/
LOCATION:The Colonies Crossroads\, 1931 N Campus Ave\, Upland\, CA\, 91784\, United States
CATEGORIES:Spark of Love
ATTACH;FMTTYPE=image/jpeg:https://sbcfire.org/wp-content/uploads/sites/46/2023/11/SoL_2023_Dec3_Upland_1920x1005.jpg
END:VEVENT
BEGIN:VEVENT
DTSTART;TZID=America/Los_Angeles:20221210T100000
DTEND;TZID=America/Los_Angeles:20221210T150000
DTSTAMP:20260423T053625
CREATED:20221208T235519Z
LAST-MODIFIED:20221209T000211Z
UID:10007652-1670666400-1670684400@sbcfire.org
SUMMARY:Spark of Love: Upland
DESCRIPTION:#SBCoFD is once again participating in the ABC7 Spark of Love Toy Drive. \nBring an unwrapped toy to help a child in need. You may bring a cash or toy donation. \nThe campaign collects new\, unwrapped toys and sports equipment for under served children and teens in Los Angeles\, San Bernardino\, Orange\, Ventura and Riverside counties. Toys collected in the respective counties are distributed locally. \nThis nationwide program is celebrating over 70 years of collecting and distributing toys. With firefighters and Marines standing side by side\, we believe this will be the biggest Spark of Love yet.
URL:https://sbcfire.org/event/20221210-sol-upland/
LOCATION:The Colonies Crossroads\, 1931 N Campus Ave\, Upland\, CA\, 91784\, United States
CATEGORIES:Spark of Love
ATTACH;FMTTYPE=image/jpeg:https://sbcfire.org/wp-content/uploads/sites/46/2022/12/Dec10_UplandSoL_1920x1080.jpg
END:VEVENT
BEGIN:VEVENT
DTSTART;TZID=America/Los_Angeles:20211127T090000
DTEND;TZID=America/Los_Angeles:20211127T150000
DTSTAMP:20260423T053625
CREATED:20211124T194847Z
LAST-MODIFIED:20211124T231136Z
UID:10004442-1638003600-1638025200@sbcfire.org
SUMMARY:Spark of Love: Upland
DESCRIPTION:#SBCoFD is once again participating in the ABC7 Spark of Love Toy Drive. \nBring an unwrapped toy to help a child in need. You may bring a cash or toy donation. \nThe campaign collects new\, unwrapped toys and sports equipment for under served children and teens in Los Angeles\, San Bernardino\, Orange\, Ventura and Riverside counties. Toys collected in the respective counties are distributed locally. \nThis nationwide program is celebrating over 70 years of collecting and distributing toys. With firefighters and Marines standing side by side\, we believe this will be the biggest Spark of Love yet.
URL:https://sbcfire.org/event/20211127-sol-upland/
LOCATION:The Colonies Crossroads\, 1931 N Campus Ave\, Upland\, CA\, 91784\, United States
CATEGORIES:Spark of Love
ATTACH;FMTTYPE=image/jpeg:https://sbcfire.org/wp-content/uploads/sites/46/2021/11/11.27.21-SoL-1920x1080-1.jpg
END:VEVENT
END:VCALENDAR