BEGIN:VCALENDAR
VERSION:2.0
PRODID:-//San Bernardino County Fire Protection District - ECPv6.15.14//NONSGML v1.0//EN
CALSCALE:GREGORIAN
METHOD:PUBLISH
X-ORIGINAL-URL:https://sbcfire.org
X-WR-CALDESC:Events for San Bernardino County Fire Protection District
REFRESH-INTERVAL;VALUE=DURATION:PT1H
X-Robots-Tag:noindex
X-PUBLISHED-TTL:PT1H
BEGIN:VTIMEZONE
TZID:America/Los_Angeles
BEGIN:DAYLIGHT
TZOFFSETFROM:-0800
TZOFFSETTO:-0700
TZNAME:PDT
DTSTART:20220313T100000
END:DAYLIGHT
BEGIN:STANDARD
TZOFFSETFROM:-0700
TZOFFSETTO:-0800
TZNAME:PST
DTSTART:20221106T090000
END:STANDARD
BEGIN:DAYLIGHT
TZOFFSETFROM:-0800
TZOFFSETTO:-0700
TZNAME:PDT
DTSTART:20230312T100000
END:DAYLIGHT
BEGIN:STANDARD
TZOFFSETFROM:-0700
TZOFFSETTO:-0800
TZNAME:PST
DTSTART:20231105T090000
END:STANDARD
BEGIN:DAYLIGHT
TZOFFSETFROM:-0800
TZOFFSETTO:-0700
TZNAME:PDT
DTSTART:20240310T100000
END:DAYLIGHT
BEGIN:STANDARD
TZOFFSETFROM:-0700
TZOFFSETTO:-0800
TZNAME:PST
DTSTART:20241103T090000
END:STANDARD
END:VTIMEZONE
BEGIN:VEVENT
DTSTART;TZID=America/Los_Angeles:20231208T090000
DTEND;TZID=America/Los_Angeles:20231208T130000
DTSTAMP:20260419T141007
CREATED:20231201T191807Z
LAST-MODIFIED:20231201T191807Z
UID:10008774-1702026000-1702040400@sbcfire.org
SUMMARY:Spark of Love: Lake Arrowhead
DESCRIPTION:#SBCoFD is once again participating in the ABC7 Spark of Love Toy Drive. \nBring an unwrapped toy to help a child in need. You may bring a cash or toy donation. \nThe campaign collects new\, unwrapped toys and sports equipment for under served children and teens in Los Angeles\, San Bernardino\, Orange\, Ventura and Riverside counties. Toys collected in the respective counties are distributed locally. \nThis nationwide program is celebrating over 70 years of collecting and distributing toys. With firefighters and Marines standing side by side\, we believe this will be the biggest Spark of Love yet.
URL:https://sbcfire.org/event/spark-of-love-lake-arrowhead-2/
LOCATION:Stater Bros.\, Lake Arrowhead\, 28100 Hwy. 189\, Lake Arrowhead\, California
CATEGORIES:Spark of Love
ATTACH;FMTTYPE=image/jpeg:https://sbcfire.org/wp-content/uploads/sites/46/2023/12/SoL_2023_Dec8_LakeArrowhead_1920x1005.jpg
END:VEVENT
BEGIN:VEVENT
DTSTART;TZID=America/Los_Angeles:20231201T090000
DTEND;TZID=America/Los_Angeles:20231201T130000
DTSTAMP:20260419T141007
CREATED:20231127T184420Z
LAST-MODIFIED:20231130T161745Z
UID:10008738-1701421200-1701435600@sbcfire.org
SUMMARY:Spark of Love: Lake Arrowhead
DESCRIPTION:#SBCoFD is once again participating in the ABC7 Spark of Love Toy Drive. \nBring an unwrapped toy to help a child in need. You may bring a cash or toy donation. \nThe campaign collects new\, unwrapped toys and sports equipment for under served children and teens in Los Angeles\, San Bernardino\, Orange\, Ventura and Riverside counties. Toys collected in the respective counties are distributed locally. \nThis nationwide program is celebrating over 70 years of collecting and distributing toys. With firefighters and Marines standing side by side\, we believe this will be the biggest Spark of Love yet.
URL:https://sbcfire.org/event/spark-of-love-lake-arrowhead/
LOCATION:Stater Bros.\, Lake Arrowhead\, 28100 Hwy. 189\, Lake Arrowhead\, California
CATEGORIES:Spark of Love
ATTACH;FMTTYPE=image/jpeg:https://sbcfire.org/wp-content/uploads/sites/46/2023/11/SoL_2023_Dec1_LakeArrowhead-1920x1005-1.jpg
END:VEVENT
END:VCALENDAR