BEGIN:VCALENDAR
VERSION:2.0
PRODID:-//San Bernardino County Fire Protection District - ECPv6.15.14//NONSGML v1.0//EN
CALSCALE:GREGORIAN
METHOD:PUBLISH
X-ORIGINAL-URL:https://sbcfire.org
X-WR-CALDESC:Events for San Bernardino County Fire Protection District
REFRESH-INTERVAL;VALUE=DURATION:PT1H
X-Robots-Tag:noindex
X-PUBLISHED-TTL:PT1H
BEGIN:VTIMEZONE
TZID:America/Los_Angeles
BEGIN:DAYLIGHT
TZOFFSETFROM:-0800
TZOFFSETTO:-0700
TZNAME:PDT
DTSTART:20200308T100000
END:DAYLIGHT
BEGIN:STANDARD
TZOFFSETFROM:-0700
TZOFFSETTO:-0800
TZNAME:PST
DTSTART:20201101T090000
END:STANDARD
BEGIN:DAYLIGHT
TZOFFSETFROM:-0800
TZOFFSETTO:-0700
TZNAME:PDT
DTSTART:20210314T100000
END:DAYLIGHT
BEGIN:STANDARD
TZOFFSETFROM:-0700
TZOFFSETTO:-0800
TZNAME:PST
DTSTART:20211107T090000
END:STANDARD
BEGIN:DAYLIGHT
TZOFFSETFROM:-0800
TZOFFSETTO:-0700
TZNAME:PDT
DTSTART:20220313T100000
END:DAYLIGHT
BEGIN:STANDARD
TZOFFSETFROM:-0700
TZOFFSETTO:-0800
TZNAME:PST
DTSTART:20221106T090000
END:STANDARD
END:VTIMEZONE
BEGIN:VTIMEZONE
TZID:UTC
BEGIN:STANDARD
TZOFFSETFROM:+0000
TZOFFSETTO:+0000
TZNAME:UTC
DTSTART:20190101T000000
END:STANDARD
END:VTIMEZONE
BEGIN:VEVENT
DTSTART;TZID=America/Los_Angeles:20210320T080000
DTEND;TZID=America/Los_Angeles:20210320T170000
DTSTAMP:20260420T102643
CREATED:20210308T223409Z
LAST-MODIFIED:20210308T223409Z
UID:10005219-1616227200-1616259600@sbcfire.org
SUMMARY:Testing Event 2
DESCRIPTION:
URL:https://sbcfire.org/event/testing-event-2/
LOCATION:San Bernardino Household Hazardous Waste Facility\, 2824 E. W St.\, San Bernardino\, CA\, 92415\, United States
CATEGORIES:Household Hazardous Waste
END:VEVENT
BEGIN:VEVENT
DTSTART;TZID=UTC:20201204T090000
DTEND;TZID=UTC:20201204T140000
DTSTAMP:20260420T102643
CREATED:20200929T004405Z
LAST-MODIFIED:20201029T042051Z
UID:10004643-1607072400-1607090400@sbcfire.org
SUMMARY:Loma Linda Used Oil Filter Exchange Event
DESCRIPTION:San Bernardino Household Hazardous Waste Facility\n2824 E. W St.\nSan Bernardino\, Ca. 92415 \n(Oil Filter Vouchers must be redeemed by 2 PM\nat AutoZone\, 27292 Base Line St\, Highland\, CA)
URL:https://sbcfire.org/event/loma-linda-used-oil-filter-exchange-event/
LOCATION:San Bernardino Household Hazardous Waste Facility\, 2824 E. W St.\, San Bernardino\, CA\, 92415\, United States
CATEGORIES:Household Hazardous Waste
ATTACH;FMTTYPE=image/jpeg:https://sbcfire.org/wp-content/uploads/sites/46/2020/10/oilevent.jpg
END:VEVENT
END:VCALENDAR