BEGIN:VCALENDAR
VERSION:2.0
PRODID:-//San Bernardino County Fire Protection District - ECPv6.15.14//NONSGML v1.0//EN
CALSCALE:GREGORIAN
METHOD:PUBLISH
X-ORIGINAL-URL:https://sbcfire.org
X-WR-CALDESC:Events for San Bernardino County Fire Protection District
REFRESH-INTERVAL;VALUE=DURATION:PT1H
X-Robots-Tag:noindex
X-PUBLISHED-TTL:PT1H
BEGIN:VTIMEZONE
TZID:America/Los_Angeles
BEGIN:DAYLIGHT
TZOFFSETFROM:-0800
TZOFFSETTO:-0700
TZNAME:PDT
DTSTART:20210314T100000
END:DAYLIGHT
BEGIN:STANDARD
TZOFFSETFROM:-0700
TZOFFSETTO:-0800
TZNAME:PST
DTSTART:20211107T090000
END:STANDARD
BEGIN:DAYLIGHT
TZOFFSETFROM:-0800
TZOFFSETTO:-0700
TZNAME:PDT
DTSTART:20220313T100000
END:DAYLIGHT
BEGIN:STANDARD
TZOFFSETFROM:-0700
TZOFFSETTO:-0800
TZNAME:PST
DTSTART:20221106T090000
END:STANDARD
BEGIN:DAYLIGHT
TZOFFSETFROM:-0800
TZOFFSETTO:-0700
TZNAME:PDT
DTSTART:20230312T100000
END:DAYLIGHT
BEGIN:STANDARD
TZOFFSETFROM:-0700
TZOFFSETTO:-0800
TZNAME:PST
DTSTART:20231105T090000
END:STANDARD
END:VTIMEZONE
BEGIN:VEVENT
DTSTART;TZID=America/Los_Angeles:20220704T090000
DTEND;TZID=America/Los_Angeles:20220704T103000
DTSTAMP:20260421T061900
CREATED:20220629T165803Z
LAST-MODIFIED:20220629T165803Z
UID:10007490-1656925200-1656930600@sbcfire.org
SUMMARY:Lucerne Valley: Independence Day Celebration 2022
DESCRIPTION:Lucerne Valley 4th of July Parade is back! Please join and cheer on the hometown parade! \nMany local businesses and groups will be walking the route from Trade Post Road to Cafe 247.  You will get a chance to see your 2022/2023 Honorary Mayor and Grand Marshall! \nAfter the parade\, please join in at Pioneer Park for the awards and trophy ceremony at 11am.
URL:https://sbcfire.org/event/lucerne-valley-independence-day-celebration-2022/
LOCATION:Lucerne Valley\, Lucerne Valley\, CA\, United States
CATEGORIES:Firework Shows
ATTACH;FMTTYPE=image/jpeg:https://sbcfire.org/wp-content/uploads/sites/46/2021/06/06.24.21-Fireworks-Shows-1920x1080-1.jpg
END:VEVENT
END:VCALENDAR