BEGIN:VCALENDAR
VERSION:2.0
PRODID:-//San Bernardino County Fire Protection District - ECPv6.15.14//NONSGML v1.0//EN
CALSCALE:GREGORIAN
METHOD:PUBLISH
X-WR-CALNAME:San Bernardino County Fire Protection District
X-ORIGINAL-URL:https://sbcfire.org
X-WR-CALDESC:Events for San Bernardino County Fire Protection District
REFRESH-INTERVAL;VALUE=DURATION:PT1H
X-Robots-Tag:noindex
X-PUBLISHED-TTL:PT1H
BEGIN:VTIMEZONE
TZID:America/Los_Angeles
BEGIN:DAYLIGHT
TZOFFSETFROM:-0800
TZOFFSETTO:-0700
TZNAME:PDT
DTSTART:20230312T100000
END:DAYLIGHT
BEGIN:STANDARD
TZOFFSETFROM:-0700
TZOFFSETTO:-0800
TZNAME:PST
DTSTART:20231105T090000
END:STANDARD
BEGIN:DAYLIGHT
TZOFFSETFROM:-0800
TZOFFSETTO:-0700
TZNAME:PDT
DTSTART:20240310T100000
END:DAYLIGHT
BEGIN:STANDARD
TZOFFSETFROM:-0700
TZOFFSETTO:-0800
TZNAME:PST
DTSTART:20241103T090000
END:STANDARD
BEGIN:DAYLIGHT
TZOFFSETFROM:-0800
TZOFFSETTO:-0700
TZNAME:PDT
DTSTART:20250309T100000
END:DAYLIGHT
BEGIN:STANDARD
TZOFFSETFROM:-0700
TZOFFSETTO:-0800
TZNAME:PST
DTSTART:20251102T090000
END:STANDARD
END:VTIMEZONE
BEGIN:VEVENT
DTSTART;TZID=America/Los_Angeles:20241019T070000
DTEND;TZID=America/Los_Angeles:20241019T110000
DTSTAMP:20260421T212057
CREATED:20241004T174845Z
LAST-MODIFIED:20241004T185318Z
UID:10008922-1729321200-1729335600@sbcfire.org
SUMMARY:Twentynine Palms: Pioneer Days Pancake Breakfast
DESCRIPTION:Join us for the Pioneer Days Pancake Breakfast at Fire Station 44 in Twentynine Palms. Come meet your local firefighters and paramedics as they serve eggs\, pancakes\, sausages\, coffee and juice. Donations will be accepted on behalf of the Morongo Basin Unity Home. \nMorongo Basin Unity Home offers emergency shelter for victims of domestic violence and their families. Also available is a Transitional Housing Program\, as well as an array of Outreach services including group and Individual Counseling\, Group Support Classes\, Temporary Restraining Order Assistance\, Supervised Child Visitation Services\, as well as Community Education activities. \nLearn more: https://www.unityhome.org \nRSVP on Facebook: https://www.facebook.com/events/557941846903591
URL:https://sbcfire.org/event/twentynine-palms-pioneer-days-pancake-breakfast/
LOCATION:Fire Station 44\, 6560 Adobe Rd\, Twentynine Palms\, CA\, 92277\, United States
ATTACH;FMTTYPE=image/jpeg:https://sbcfire.org/wp-content/uploads/sites/46/2024/10/PancakeBreakfast2024_X-1920x1080-1.jpg
END:VEVENT
BEGIN:VEVENT
DTSTART;TZID=America/Los_Angeles:20241019T090000
DTEND;TZID=America/Los_Angeles:20241019T140000
DTSTAMP:20260421T212057
CREATED:20240920T143926Z
LAST-MODIFIED:20240920T143926Z
UID:10008917-1729328400-1729346400@sbcfire.org
SUMMARY:Hesperia Oil Filter Exchange Event
DESCRIPTION:Click here for flyer: \nJOIN US! \nSaturday\, October 19\, 2024\n9am to 2pm \nDETAILS: \n\nOne oil filter voucher per household ( limited supply )\nVoucher has a maximum value of $15.00\nExpiration: 2 p.m. Saturday\, October 19\, 2024\nNo exchange or cash refund after event\nRecycle oil filter safely: drain for 12 hours and transport in non-leaking container or bag\nAvailable to San Bernardino County residents only – bring ID or utility bill for verification\n\nEVENT LOCATION: \n17115 Main St\nHesperia\, CA 92345 \nOffer valid ONLY at this address \nBring Used Oil Filters to Recycle and Exchange for a Voucher to Get a New One FREE! \nFor information\, call 909.382.5401 or 1.800.OILY CAT (645.9228) or visit: sbcfire.org/hhw \n 
URL:https://sbcfire.org/event/hesperia-oil-filter-exchange-event/
LOCATION:AutoZone Hesperia\, 17115 Main Street\, Hesperia\, CA\, 92345\, United States
CATEGORIES:Household Hazardous Waste
ATTACH;FMTTYPE=image/jpeg:https://sbcfire.org/wp-content/uploads/sites/46/2022/01/52235-HHW-Generic-Social-Media-Graphics-FB19.jpg
END:VEVENT
BEGIN:VEVENT
DTSTART;TZID=America/Los_Angeles:20241026T080000
DTEND;TZID=America/Los_Angeles:20241026T120000
DTSTAMP:20260421T212057
CREATED:20240822T205501Z
LAST-MODIFIED:20240822T205501Z
UID:10008914-1729929600-1729944000@sbcfire.org
SUMMARY:Helendale Household Hazardous Waste Collection
DESCRIPTION:Click here for the flyer \nHelendale Residents:\nHOUSEHOLD HAZARDOUS WASTE COLLECTION\nSaturday\, October 26\, 2024 | 8 a.m. to 12 p.m.\nCommunity Center\, 26540 Vista Road\, Helendale\, CA\nALL VEHICLES MUST ENTER HHW AREA FROM VISTA ROAD \nTake the last step! Recycle your USED MOTOR OIL and OIL FILTERS!\n• Dumping used oil (or any chemical) is a crime – legally and environmentally\n• Dumped oil contaminates ground water – our drinking water source\n• Used oil is insoluble and can contain toxic chemicals\n• Used oil kills plant and aquatic life\n• One pint of used oil can create an acre-sized oil slick on surface waters \nRemember when recycling oil to…\n• Drain your oil from cars\, trucks\, motorcycles\, boats\, recreational vehicles\, lawnmowers\, etc.\, into a reusable\, sealable container.\n• Do not dump oil on the ground\, in the gutter or storm drain\, or throw in the trash\n• Do not mix anything with the oil (water\, paint\, pesticides\, diesel\, antifreeze or gasoline) \nBefore transporting\, be sure that…\n• Waste is properly labeled or in its original container\n• The container is no larger than 5 gallons. Transport no more than 15 gallons or 125 lbs.\n• Containers are sound and not leaking\n• Sharps/needles are in approved container\, illegal to transport in plastic bag\, coffee cans or other non approved container\n• Waste is securely placed in the back of the vehicle for safe transport \nThe following guidelines apply:\n• Household Hazardous Waste ONLY. No Business-Generated Waste Accepted\n• San Bernardino County Residents ONLY. Identification will be required\n• No Early Birds (waste brought before 8:00 a.m. will not be accepted)\n• Waste must be accepted by County Fire Protection District personnel. \nWe Accept…\n• Antifreeze\n• Auto & Household Batteries\n• Cooking Oil\n• Fluorescent Tubes\n• Home-Generated Sharps/Needles in\napproved container\n• Household Cleaners\n• Medications – separate liquids from\nsolids (excluding controlled substances)\n• Motor Oil/Used Filters\n• Paint Products\n• Pesticides & Fertilizers\n• Pool Supplies \nWe Do NOT Accept…\n• Electronic Waste\n• Business/Commercial Wastes\n• Explosives\n• Asbestos\n• Medical Wastes other than sharps\n• Radioactive Wastes\n• Reactives\n• Tire\, Appliances\, Furniture\, Air Conditioner\, etc.\n• Wastes from foreclosed properties & non-profit organizations \n  \nCall us today to find out how to get a free oil container at the next Oil Filter Event\nin your City/Town. \nFor questions or more information\, contact:\nSan Bernardino County Fire Protection District\, Household Hazardous Waste Program\n1.909.382.5401\nVisit sbcfire.org/hhw
URL:https://sbcfire.org/event/helendale-household-hazardous-waste-collection-5/
LOCATION:Helendale Community Center\, 26540 Vista Road\, Helendale\, CA\, 92342
CATEGORIES:Household Hazardous Waste
ATTACH;FMTTYPE=image/png:https://sbcfire.org/wp-content/uploads/sites/46/2020/10/oily-cat-img.png
END:VEVENT
END:VCALENDAR