BEGIN:VCALENDAR
VERSION:2.0
PRODID:-//San Bernardino County Fire Protection District - ECPv6.15.14//NONSGML v1.0//EN
CALSCALE:GREGORIAN
METHOD:PUBLISH
X-ORIGINAL-URL:https://sbcfire.org
X-WR-CALDESC:Events for San Bernardino County Fire Protection District
REFRESH-INTERVAL;VALUE=DURATION:PT1H
X-Robots-Tag:noindex
X-PUBLISHED-TTL:PT1H
BEGIN:VTIMEZONE
TZID:America/Los_Angeles
BEGIN:DAYLIGHT
TZOFFSETFROM:-0800
TZOFFSETTO:-0700
TZNAME:PDT
DTSTART:20230312T100000
END:DAYLIGHT
BEGIN:STANDARD
TZOFFSETFROM:-0700
TZOFFSETTO:-0800
TZNAME:PST
DTSTART:20231105T090000
END:STANDARD
BEGIN:DAYLIGHT
TZOFFSETFROM:-0800
TZOFFSETTO:-0700
TZNAME:PDT
DTSTART:20240310T100000
END:DAYLIGHT
BEGIN:STANDARD
TZOFFSETFROM:-0700
TZOFFSETTO:-0800
TZNAME:PST
DTSTART:20241103T090000
END:STANDARD
BEGIN:DAYLIGHT
TZOFFSETFROM:-0800
TZOFFSETTO:-0700
TZNAME:PDT
DTSTART:20250309T100000
END:DAYLIGHT
BEGIN:STANDARD
TZOFFSETFROM:-0700
TZOFFSETTO:-0800
TZNAME:PST
DTSTART:20251102T090000
END:STANDARD
END:VTIMEZONE
BEGIN:VEVENT
DTSTART;TZID=America/Los_Angeles:20240608T080000
DTEND;TZID=America/Los_Angeles:20240608T120000
DTSTAMP:20260422T042318
CREATED:20240606T174355Z
LAST-MODIFIED:20240606T174355Z
UID:10008894-1717833600-1717848000@sbcfire.org
SUMMARY:Trona HHW Collection
DESCRIPTION:Trona residents!\n\nJoin the SBCoFD Household Hazardous Waste (HHW) team on 06/08/2024 from 8 am to 12 pm at the County Fire Station\, 83732 Trona Rd.\, Trona\, CA 93562.\n\nDrop off HHW items such as antifreeze\, electronics\, batteries\, oil\, oil filters\, cosmetics\, pesticides\, and much more!\n\nTransport no more than 15 gallons or 125 lbs in containers larger than 5 gallons. Containers must be sound and not leaking.\n\nNo business waste will be accepted.\n\nPlease have all waste in the back of the vehicle. (except sharps/needles should be w/ driver)\n\nAvailable only to San Bernardino County Residents. Proof of residency required.\n\nCall 1-800-Oily Cat(645-9228) or visit sbcfire.org/hhw to learn about all the ways you can help keep our county clean with our programs\nFlyer Link 
URL:https://sbcfire.org/event/trona-hhw-collection/
LOCATION:Trona Fire Station\, 83732 Trona Road\, Trona\, CA\, 93562\, United States
CATEGORIES:Household Hazardous Waste
ATTACH;FMTTYPE=image/jpeg:https://sbcfire.org/wp-content/uploads/sites/46/2021/09/Yucaipa-HHW-Collection-10.31.20-Part-11.jpg
END:VEVENT
BEGIN:VEVENT
DTSTART;TZID=America/Los_Angeles:20240608T090000
DTEND;TZID=America/Los_Angeles:20240608T140000
DTSTAMP:20260422T042318
CREATED:20240522T203143Z
LAST-MODIFIED:20240522T203143Z
UID:10008889-1717837200-1717855200@sbcfire.org
SUMMARY:Bloomington Used Oil Filter Exchange Event
DESCRIPTION:Please see Flyer for more information  Bloomington Flyer \n\nJoin the #SBCoFD Household Hazardous Waste team on Saturday\, June 8\, 2024 from 9 AM to 2 PM at a participating AutoZone below!\n\n\n– AutoZone\, 1035 S. Bloomington Ave.\, Bloomington\, CA 92316\n\n\nBring your Used Oil Filters to the participating AutoZone to Recycle and Exchange for up to a $15 oil filter voucher to be redeemed by 2 PM! (1 voucher per household)\nProof of San Bernardino County residency required. Any resident from San Bernardino County can participate.\nFor more information\, call 1-800-Oily Cat(645-9228) or visit SBCFire.org/hhw
URL:https://sbcfire.org/event/bloomington-used-oil-filter-exchange-event/
LOCATION:Autozone Bloomington\, 1035 S. Bloomington Ave\, Bloomington\, CA\, 92316\, United States
CATEGORIES:Household Hazardous Waste
ATTACH;FMTTYPE=image/jpeg:https://sbcfire.org/wp-content/uploads/sites/46/2022/05/52235-HHW-Generic-Social-Media-Graphics-FB19.jpg
END:VEVENT
BEGIN:VEVENT
DTSTART;TZID=America/Los_Angeles:20240615T090000
DTEND;TZID=America/Los_Angeles:20240615T140000
DTSTAMP:20260422T042318
CREATED:20240522T204204Z
LAST-MODIFIED:20240522T204204Z
UID:10008892-1718442000-1718460000@sbcfire.org
SUMMARY:Adelanto Used Oil Filter Exchange Event
DESCRIPTION:Please see Flyer for more information  Adelanto Flyer \n\nJoin the #SBCoFD Household Hazardous Waste team on Saturday\, June 15\, 2024 from 9 AM to 2 PM at a participating AutoZone below!\n\n\n– AutoZone\, 14289 US HWY 395 Victorville\, CA 92394\n\n\nBring your Used Oil Filters to the participating AutoZone to Recycle and Exchange for up to a $15 oil filter voucher to be redeemed by 2 PM! (1 voucher per household)\nProof of San Bernardino County residency required. Any resident from San Bernardino County can participate.\nFor more information\, call 1-800-Oily Cat(645-9228) or visit SBCFire.org/hhw
URL:https://sbcfire.org/event/adelanto-used-oil-filter-exchange-event-2/
LOCATION:AutoZone Adelanto\, 14289 HWY 395\, Victorviile\, CA\, 92394\, United States
CATEGORIES:Household Hazardous Waste
ATTACH;FMTTYPE=image/jpeg:https://sbcfire.org/wp-content/uploads/sites/46/2022/05/52235-HHW-Generic-Social-Media-Graphics-FB19.jpg
END:VEVENT
END:VCALENDAR