BEGIN:VCALENDAR
VERSION:2.0
PRODID:-//San Bernardino County Fire Protection District - ECPv6.15.14//NONSGML v1.0//EN
CALSCALE:GREGORIAN
METHOD:PUBLISH
X-ORIGINAL-URL:https://sbcfire.org
X-WR-CALDESC:Events for San Bernardino County Fire Protection District
REFRESH-INTERVAL;VALUE=DURATION:PT1H
X-Robots-Tag:noindex
X-PUBLISHED-TTL:PT1H
BEGIN:VTIMEZONE
TZID:America/Los_Angeles
BEGIN:DAYLIGHT
TZOFFSETFROM:-0800
TZOFFSETTO:-0700
TZNAME:PDT
DTSTART:20230312T100000
END:DAYLIGHT
BEGIN:STANDARD
TZOFFSETFROM:-0700
TZOFFSETTO:-0800
TZNAME:PST
DTSTART:20231105T090000
END:STANDARD
BEGIN:DAYLIGHT
TZOFFSETFROM:-0800
TZOFFSETTO:-0700
TZNAME:PDT
DTSTART:20240310T100000
END:DAYLIGHT
BEGIN:STANDARD
TZOFFSETFROM:-0700
TZOFFSETTO:-0800
TZNAME:PST
DTSTART:20241103T090000
END:STANDARD
BEGIN:DAYLIGHT
TZOFFSETFROM:-0800
TZOFFSETTO:-0700
TZNAME:PDT
DTSTART:20250309T100000
END:DAYLIGHT
BEGIN:STANDARD
TZOFFSETFROM:-0700
TZOFFSETTO:-0800
TZNAME:PST
DTSTART:20251102T090000
END:STANDARD
END:VTIMEZONE
BEGIN:VEVENT
DTSTART;TZID=America/Los_Angeles:20240407T090000
DTEND;TZID=America/Los_Angeles:20240407T130000
DTSTAMP:20260422T081114
CREATED:20240307T162231Z
LAST-MODIFIED:20240307T162232Z
UID:10008873-1712480400-1712494800@sbcfire.org
SUMMARY:Loma Linda E-Waste\, Sharps\, & Batteries Collection Event
DESCRIPTION: Loma Linda E-Waste Flyer \n \nThe City of Loma Linda will be conducting a FREE E-Waste Collection on 04/7/24 from 9 AM to 1 PM at the Loma Linda City Hall Parking Lot\, 25541 Barton Rd\, Loma Linda. \nItems Accepted: \n\ncomputer monitors\ntelevision sets\nCPU’s\nlaptops\nprinters\ncell phones\nsharps/needles\nhousehold batteries\nfluorescent light bulbs/tubes\n\nItems not Accepted: \n\nlarge appliances\nvacuums\nHousehold Hazardous Waste\nbusiness waste\nmedications\nmicrowaves\n\nSan Bernardino County Fire Protection District\, Household Hazardous Waste Division\, partners with the City and provides a special Collection of household batteries\, fluorescent light bulbs\, and Sharps/Needles (Need to be in approved Bio-hazard container or in an approved alternative container) during the collection.\nE-Waste\, Batteries\, and Sharps Collection open to only San Bernardino County residents. (Proof of residency required) \nAll waste should be in the back of the vehicle except Sharps in approved containers should be up front with driver.\nFor questions on the E Waste Collection\, call The City of Loma Linda at (909) 799-4400 or visit the City of Loma Linda’s website for more information.\nFor questions on household hazardous waste\, or call 1-800-Oily Cat for your nearest HHW disposal site.
URL:https://sbcfire.org/event/loma-linda-e-waste-sharps-batteries-collection-event-3/
LOCATION:Loma Linda City Hall\, 25541 Barton Rd.\, Loma Linda\, CA\, 92354\, United States
CATEGORIES:Household Hazardous Waste
ATTACH;FMTTYPE=image/png:https://sbcfire.org/wp-content/uploads/sites/46/2021/07/768x432-E-Waste-Graphic.png
END:VEVENT
BEGIN:VEVENT
DTSTART;TZID=America/Los_Angeles:20240413T090000
DTEND;TZID=America/Los_Angeles:20240413T140000
DTSTAMP:20260422T081114
CREATED:20240307T180909Z
LAST-MODIFIED:20240307T180909Z
UID:10008870-1712998800-1713016800@sbcfire.org
SUMMARY:Highland Used Oil Filter Exchange & Recycling Event
DESCRIPTION:For flyer information click here:   Highland Flyer \nBring Used Oil Filters to Recycle and Exchange for one New Oil Filter Voucher Up to $15 Free! \nEVENT LOCATION:\nAutoZone\n27292 Baseline Rd\, Highland CA 92346 \nKeep in mind… \n\nOne $15 oil filter voucher per household maximum (limited supply)\nExpiration: 2 p.m. Saturday\, April 13\, 2024\nValid only at the address of the event\nNo exchange or cash refund after event\nRecycle oil filter safely: drain for 12 hours and transport in non-leaking container or bag\nAvailable to San Bernardino County residents only – bring ID or utility bill for verification\n\nFor information\, call 909.382.5401 or 1.800.Oily Cat (645.9228) or visit sbcfire.org/hhw
URL:https://sbcfire.org/event/highland-used-oil-filter-exchange-recycling-event-4/
LOCATION:AutoZone Highland\, 27292 Base Line St.\, Highland\, 92346\, United States
CATEGORIES:Household Hazardous Waste
ATTACH;FMTTYPE=image/jpeg:https://sbcfire.org/wp-content/uploads/sites/46/2022/05/52235-HHW-Generic-Social-Media-Graphics-FB19.jpg
END:VEVENT
BEGIN:VEVENT
DTSTART;TZID=America/Los_Angeles:20240427T090000
DTEND;TZID=America/Los_Angeles:20240427T140000
DTSTAMP:20260422T081114
CREATED:20240321T203234Z
LAST-MODIFIED:20240321T203234Z
UID:10008884-1714208400-1714226400@sbcfire.org
SUMMARY:Yucca Valley/29 Palms Used Oil Filter Exchange Event
DESCRIPTION:Please see Flyer for more information   Yucca Valley and 29 Palms Flyer \n\nJoin the #SBCoFD Household Hazardous Waste team on Saturday\, April 27\, 2024 from 9 AM to 2 PM at a participating AutoZone below!\n\n\n– AutoZone\, 56505 29 Palms Hwy\, Yucca Valley\, CA\, 92284\n– AutoZone\, 6401 Adobe Road\, 29 Palms\, CA\, 92277\n\n\nBring your Used Oil Filters to the participating AutoZone to Recycle and Exchange for up to a $15 oil filter voucher to be redeemed by 2 PM! (1 voucher per household)\nProof of San Bernardino County residency required. Any resident from San Bernardino County can participate.\nFor more information\, call 1-800-Oily Cat(645-9228) or visit SBCFire.org/hhw
URL:https://sbcfire.org/event/yucca-valley-29-palms-used-oil-filter-exchange-event-3/
LOCATION:AutoZone Yucca Valley\, 56505 Twentynine Palms Highway\, Yucca Valley\, CA\, 92284\, United States
CATEGORIES:Household Hazardous Waste
ATTACH;FMTTYPE=image/jpeg:https://sbcfire.org/wp-content/uploads/sites/46/2022/05/52235-HHW-Generic-Social-Media-Graphics-FB19.jpg
END:VEVENT
END:VCALENDAR