BEGIN:VCALENDAR
VERSION:2.0
PRODID:-//San Bernardino County Fire Protection District - ECPv6.15.14//NONSGML v1.0//EN
CALSCALE:GREGORIAN
METHOD:PUBLISH
X-WR-CALNAME:San Bernardino County Fire Protection District
X-ORIGINAL-URL:https://sbcfire.org
X-WR-CALDESC:Events for San Bernardino County Fire Protection District
REFRESH-INTERVAL;VALUE=DURATION:PT1H
X-Robots-Tag:noindex
X-PUBLISHED-TTL:PT1H
BEGIN:VTIMEZONE
TZID:America/Los_Angeles
BEGIN:DAYLIGHT
TZOFFSETFROM:-0800
TZOFFSETTO:-0700
TZNAME:PDT
DTSTART:20230312T100000
END:DAYLIGHT
BEGIN:STANDARD
TZOFFSETFROM:-0700
TZOFFSETTO:-0800
TZNAME:PST
DTSTART:20231105T090000
END:STANDARD
BEGIN:DAYLIGHT
TZOFFSETFROM:-0800
TZOFFSETTO:-0700
TZNAME:PDT
DTSTART:20240310T100000
END:DAYLIGHT
BEGIN:STANDARD
TZOFFSETFROM:-0700
TZOFFSETTO:-0800
TZNAME:PST
DTSTART:20241103T090000
END:STANDARD
BEGIN:DAYLIGHT
TZOFFSETFROM:-0800
TZOFFSETTO:-0700
TZNAME:PDT
DTSTART:20250309T100000
END:DAYLIGHT
BEGIN:STANDARD
TZOFFSETFROM:-0700
TZOFFSETTO:-0800
TZNAME:PST
DTSTART:20251102T090000
END:STANDARD
END:VTIMEZONE
BEGIN:VEVENT
DTSTART;TZID=America/Los_Angeles:20240228T090000
DTEND;TZID=America/Los_Angeles:20240301T150000
DTSTAMP:20260422T094938
CREATED:20220408T191707Z
LAST-MODIFIED:20220408T191707Z
UID:10007433-1709110800-1709305200@sbcfire.org
SUMMARY:Community Chipping - Wrightwood
DESCRIPTION:The San Bernardino County Fire Protection District (#SBCoFD)\, in cooperation with the San Bernardino County Public Works\, Mountain Rim Fire Safe Council\, Wrightwood Fire Safe Council are offering wood chipping throughout the mountain communities prior to the summer and fall\, when the threat of wildfire is elevated. In an effort to bolster safety in these areas\, these agencies will assist residents in maintaining wildfire safety in their communities. \nResidents are invited to bring cut brush and branches\, limbs up to 15″ in diameter and 10′ in length. Limbs and brush only. Leaves and pine needles cannot be chipped. Chipping is available at no charge. \n#SBCoFD encourages residents to get prepared for wildfire weather. For safety tips\, including creating your Ready! Set! Go! Personal Wildfire Action Plan\, visit https://sbcfire.co/ReadySetGoFire \nFor more info call (909) 336-7086.
URL:https://sbcfire.org/event/community-chipping-wrightwood/2024-02-28/
LOCATION:1500 CA-2\, 1500 CA-2\, Wrightwood\, CA\, 92397\, United States
CATEGORIES:Wood Chipping
ATTACH;FMTTYPE=image/jpeg:https://sbcfire.org/wp-content/uploads/sites/46/2022/04/05.07.22-Wood-Chipping-1-e1649376152253.jpg
END:VEVENT
BEGIN:VEVENT
DTSTART;TZID=America/Los_Angeles:20240229T090000
DTEND;TZID=America/Los_Angeles:20240302T150000
DTSTAMP:20260422T094938
CREATED:20220408T191707Z
LAST-MODIFIED:20220408T191707Z
UID:10007436-1709197200-1709391600@sbcfire.org
SUMMARY:Community Chipping - Wrightwood
DESCRIPTION:The San Bernardino County Fire Protection District (#SBCoFD)\, in cooperation with the San Bernardino County Public Works\, Mountain Rim Fire Safe Council\, Wrightwood Fire Safe Council are offering wood chipping throughout the mountain communities prior to the summer and fall\, when the threat of wildfire is elevated. In an effort to bolster safety in these areas\, these agencies will assist residents in maintaining wildfire safety in their communities. \nResidents are invited to bring cut brush and branches\, limbs up to 15″ in diameter and 10′ in length. Limbs and brush only. Leaves and pine needles cannot be chipped. Chipping is available at no charge. \n#SBCoFD encourages residents to get prepared for wildfire weather. For safety tips\, including creating your Ready! Set! Go! Personal Wildfire Action Plan\, visit https://sbcfire.co/ReadySetGoFire \nFor more info call (909) 336-7086.
URL:https://sbcfire.org/event/community-chipping-wrightwood/2024-02-29/
LOCATION:1500 CA-2\, 1500 CA-2\, Wrightwood\, CA\, 92397\, United States
CATEGORIES:Wood Chipping
ATTACH;FMTTYPE=image/jpeg:https://sbcfire.org/wp-content/uploads/sites/46/2022/04/05.07.22-Wood-Chipping-1-e1649376152253.jpg
END:VEVENT
BEGIN:VEVENT
DTSTART;TZID=America/Los_Angeles:20240301T090000
DTEND;TZID=America/Los_Angeles:20240303T150000
DTSTAMP:20260422T094938
CREATED:20220408T191707Z
LAST-MODIFIED:20220408T191707Z
UID:10007439-1709283600-1709478000@sbcfire.org
SUMMARY:Community Chipping - Wrightwood
DESCRIPTION:The San Bernardino County Fire Protection District (#SBCoFD)\, in cooperation with the San Bernardino County Public Works\, Mountain Rim Fire Safe Council\, Wrightwood Fire Safe Council are offering wood chipping throughout the mountain communities prior to the summer and fall\, when the threat of wildfire is elevated. In an effort to bolster safety in these areas\, these agencies will assist residents in maintaining wildfire safety in their communities. \nResidents are invited to bring cut brush and branches\, limbs up to 15″ in diameter and 10′ in length. Limbs and brush only. Leaves and pine needles cannot be chipped. Chipping is available at no charge. \n#SBCoFD encourages residents to get prepared for wildfire weather. For safety tips\, including creating your Ready! Set! Go! Personal Wildfire Action Plan\, visit https://sbcfire.co/ReadySetGoFire \nFor more info call (909) 336-7086.
URL:https://sbcfire.org/event/community-chipping-wrightwood/2024-03-01/
LOCATION:1500 CA-2\, 1500 CA-2\, Wrightwood\, CA\, 92397\, United States
CATEGORIES:Wood Chipping
ATTACH;FMTTYPE=image/jpeg:https://sbcfire.org/wp-content/uploads/sites/46/2022/04/05.07.22-Wood-Chipping-1-e1649376152253.jpg
END:VEVENT
BEGIN:VEVENT
DTSTART;TZID=America/Los_Angeles:20240302T070000
DTEND;TZID=America/Los_Angeles:20240302T110000
DTSTAMP:20260422T094938
CREATED:20240130T001511Z
LAST-MODIFIED:20240130T001511Z
UID:10008822-1709362800-1709377200@sbcfire.org
SUMMARY:Needles Household Hazardous Waste Collection
DESCRIPTION:Needles Collection Flyer English-Spanish \nTake the last step! Recycle your USED MOTOR OIL and OIL FILTERS!\n• Dumping used oil (or any chemical) is a crime – legally and environmentally\n• Dumped oil contaminates ground water – our drinking water source\n• Used oil is insoluble and can contain toxic chemicals\n• Used oil kills plant and aquatic life\n• One pint of used oil can create an acre-sized oil slick on surface waters \nRemember when recycling oil to\n• Drain your oil from cars\, trucks\, motorcycles\, boats\, recreational vehicles\, lawnmowers\, etc.\, into a reusable\, sealable container.\n• Do not dump oil on the ground\, in the gutter or storm drain\, or throw in the trash\n• Do not mix anything with the oil (water\, paint\, pesticides\, diesel\, antifreeze or gasoline) \nBefore transporting\, be sure that\n• Waste is properly labeled or in its original container\n• The container is no larger than 5 gallons. Transport no more than 15 gallons or 125 lbs.\n• Containers are sound and not leaking\n• Sharps/needles must be in approved biohazard container. Sharps will not be accepted in plastic bags\, coffee cans\, milk jugs\, or soda cans\n• Waste is securely placed in the back of the vehicle for safe transport \nThe following guidelines apply\n• Household Hazardous Waste ONLY. No Business-Generated Waste Accepted\n• San Bernardino County Residents ONLY. Identification will be required\n• No Early Birds (waste brought before 7:00a.m. will not be accepted)\n• Waste must be accepted by County Fire Protection District personnel.\n• Remain in vehicle at all times \nWe Accept\n• Antifreeze\n• Auto & Household Batteries\n• Computer Monitors\, TVs\n• CPUs\, Printers\n• Fluorescent Tubes\n• Home-Generated Sharps/Needles in approved container\n• Household Cleaners\n• Medications – separate liquids from solids (excluding controlled substances)\n• Microwave Ovens\n• Motor Oil/Used Filters\n• Musical Cards\, Clothes Irons\n• Paint Products\n• Pesticides & Fertilizers\n• Space Heaters\, Stereos\, Radios\n• Telephones\n• VCRs/DVD Players \nWe Do NOT Accept\n• Asbestos\n• Business/Commercial Wastes\n• Explosives\n• Medical Wastes other than sharps\n• Radioactive Wastes\n• Reactives\n• Tire\, Appliances\, Furniture\, Air Conditioner\, etc.\n• Wastes from foreclosed properties & non-profit organizations \nFor questions or more information\, contact: \nSan Bernardino County Fire Protection District\, \nHousehold Hazardous Waste Program \n1.800.OILY.CAT (645.9228) or 909.382.5401 \nVisit: Sbcfire.org/hhw 
URL:https://sbcfire.org/event/needles-household-hazardous-waste-collection-5/
LOCATION:Needles Household Hazardous Waste Collection Facility\, 112 Robuffa Street\, Needles\, CA\, 92363\, United States
CATEGORIES:Household Hazardous Waste
ATTACH;FMTTYPE=image/jpeg:https://sbcfire.org/wp-content/uploads/sites/46/2020/10/hhw-collection-facilities-hero-img.jpg
END:VEVENT
BEGIN:VEVENT
DTSTART;TZID=America/Los_Angeles:20240302T090000
DTEND;TZID=America/Los_Angeles:20240302T140000
DTSTAMP:20260422T094938
CREATED:20240119T211608Z
LAST-MODIFIED:20240119T211608Z
UID:10005498-1709370000-1709388000@sbcfire.org
SUMMARY:Redlands Used Oil Filter Exchange & Recycling Event
DESCRIPTION:  \n Redlands Flyer 3-2-24 Eng-Sp  \nBring Used Oil Filters to Recycle and Exchange for one New Oil Filter Voucher Up to $15 Free! \nEVENT LOCATION:\nAutoZone\n2052 W. Redlands Boulevard\nRedlands CA 92373 \nKeep in mind… \n\nUp to one $15 oil filter voucher per household maximum (limited supply)\nExpiration: 2 p.m. Saturday\, March 2\, 2024\nValid only at the address of the event\nNo exchange or cash refund after event\nRecycle oil filter safely: drain for 12 hours and transport in non-leaking container or bag\nAvailable to San Bernardino County residents only – bring ID or utility bill for verification\n\nFor information\, call 909.382.5401 or 1.800.Oily Cat (645.9228) or visit sbcfire.org/hhw
URL:https://sbcfire.org/event/redlands-used-oil-filter-exchange-recycling-event-2/
LOCATION:AutoZone Redlands\, 2052 W Redlands Blvd\, Redlands\, CA\, 92373\, United States
CATEGORIES:Household Hazardous Waste
ATTACH;FMTTYPE=image/jpeg:https://sbcfire.org/wp-content/uploads/sites/46/2022/05/52235-HHW-Generic-Social-Media-Graphics-FB19.jpg
END:VEVENT
BEGIN:VEVENT
DTSTART;TZID=America/Los_Angeles:20240302T090000
DTEND;TZID=America/Los_Angeles:20240304T150000
DTSTAMP:20260422T094938
CREATED:20220408T191707Z
LAST-MODIFIED:20220408T191707Z
UID:10007442-1709370000-1709564400@sbcfire.org
SUMMARY:Community Chipping - Wrightwood
DESCRIPTION:The San Bernardino County Fire Protection District (#SBCoFD)\, in cooperation with the San Bernardino County Public Works\, Mountain Rim Fire Safe Council\, Wrightwood Fire Safe Council are offering wood chipping throughout the mountain communities prior to the summer and fall\, when the threat of wildfire is elevated. In an effort to bolster safety in these areas\, these agencies will assist residents in maintaining wildfire safety in their communities. \nResidents are invited to bring cut brush and branches\, limbs up to 15″ in diameter and 10′ in length. Limbs and brush only. Leaves and pine needles cannot be chipped. Chipping is available at no charge. \n#SBCoFD encourages residents to get prepared for wildfire weather. For safety tips\, including creating your Ready! Set! Go! Personal Wildfire Action Plan\, visit https://sbcfire.co/ReadySetGoFire \nFor more info call (909) 336-7086.
URL:https://sbcfire.org/event/community-chipping-wrightwood/2024-03-02/
LOCATION:1500 CA-2\, 1500 CA-2\, Wrightwood\, CA\, 92397\, United States
CATEGORIES:Wood Chipping
ATTACH;FMTTYPE=image/jpeg:https://sbcfire.org/wp-content/uploads/sites/46/2022/04/05.07.22-Wood-Chipping-1-e1649376152253.jpg
END:VEVENT
BEGIN:VEVENT
DTSTART;TZID=America/Los_Angeles:20240303T090000
DTEND;TZID=America/Los_Angeles:20240305T150000
DTSTAMP:20260422T094939
CREATED:20220408T191707Z
LAST-MODIFIED:20220408T191707Z
UID:10007445-1709456400-1709650800@sbcfire.org
SUMMARY:Community Chipping - Wrightwood
DESCRIPTION:The San Bernardino County Fire Protection District (#SBCoFD)\, in cooperation with the San Bernardino County Public Works\, Mountain Rim Fire Safe Council\, Wrightwood Fire Safe Council are offering wood chipping throughout the mountain communities prior to the summer and fall\, when the threat of wildfire is elevated. In an effort to bolster safety in these areas\, these agencies will assist residents in maintaining wildfire safety in their communities. \nResidents are invited to bring cut brush and branches\, limbs up to 15″ in diameter and 10′ in length. Limbs and brush only. Leaves and pine needles cannot be chipped. Chipping is available at no charge. \n#SBCoFD encourages residents to get prepared for wildfire weather. For safety tips\, including creating your Ready! Set! Go! Personal Wildfire Action Plan\, visit https://sbcfire.co/ReadySetGoFire \nFor more info call (909) 336-7086.
URL:https://sbcfire.org/event/community-chipping-wrightwood/2024-03-03/
LOCATION:1500 CA-2\, 1500 CA-2\, Wrightwood\, CA\, 92397\, United States
CATEGORIES:Wood Chipping
ATTACH;FMTTYPE=image/jpeg:https://sbcfire.org/wp-content/uploads/sites/46/2022/04/05.07.22-Wood-Chipping-1-e1649376152253.jpg
END:VEVENT
BEGIN:VEVENT
DTSTART;TZID=America/Los_Angeles:20240304T090000
DTEND;TZID=America/Los_Angeles:20240306T150000
DTSTAMP:20260422T094939
CREATED:20220408T191707Z
LAST-MODIFIED:20220408T191707Z
UID:10007448-1709542800-1709737200@sbcfire.org
SUMMARY:Community Chipping - Wrightwood
DESCRIPTION:The San Bernardino County Fire Protection District (#SBCoFD)\, in cooperation with the San Bernardino County Public Works\, Mountain Rim Fire Safe Council\, Wrightwood Fire Safe Council are offering wood chipping throughout the mountain communities prior to the summer and fall\, when the threat of wildfire is elevated. In an effort to bolster safety in these areas\, these agencies will assist residents in maintaining wildfire safety in their communities. \nResidents are invited to bring cut brush and branches\, limbs up to 15″ in diameter and 10′ in length. Limbs and brush only. Leaves and pine needles cannot be chipped. Chipping is available at no charge. \n#SBCoFD encourages residents to get prepared for wildfire weather. For safety tips\, including creating your Ready! Set! Go! Personal Wildfire Action Plan\, visit https://sbcfire.co/ReadySetGoFire \nFor more info call (909) 336-7086.
URL:https://sbcfire.org/event/community-chipping-wrightwood/2024-03-04/
LOCATION:1500 CA-2\, 1500 CA-2\, Wrightwood\, CA\, 92397\, United States
CATEGORIES:Wood Chipping
ATTACH;FMTTYPE=image/jpeg:https://sbcfire.org/wp-content/uploads/sites/46/2022/04/05.07.22-Wood-Chipping-1-e1649376152253.jpg
END:VEVENT
BEGIN:VEVENT
DTSTART;TZID=America/Los_Angeles:20240305T090000
DTEND;TZID=America/Los_Angeles:20240307T150000
DTSTAMP:20260422T094939
CREATED:20220408T191707Z
LAST-MODIFIED:20220408T191707Z
UID:10007451-1709629200-1709823600@sbcfire.org
SUMMARY:Community Chipping - Wrightwood
DESCRIPTION:The San Bernardino County Fire Protection District (#SBCoFD)\, in cooperation with the San Bernardino County Public Works\, Mountain Rim Fire Safe Council\, Wrightwood Fire Safe Council are offering wood chipping throughout the mountain communities prior to the summer and fall\, when the threat of wildfire is elevated. In an effort to bolster safety in these areas\, these agencies will assist residents in maintaining wildfire safety in their communities. \nResidents are invited to bring cut brush and branches\, limbs up to 15″ in diameter and 10′ in length. Limbs and brush only. Leaves and pine needles cannot be chipped. Chipping is available at no charge. \n#SBCoFD encourages residents to get prepared for wildfire weather. For safety tips\, including creating your Ready! Set! Go! Personal Wildfire Action Plan\, visit https://sbcfire.co/ReadySetGoFire \nFor more info call (909) 336-7086.
URL:https://sbcfire.org/event/community-chipping-wrightwood/2024-03-05/
LOCATION:1500 CA-2\, 1500 CA-2\, Wrightwood\, CA\, 92397\, United States
CATEGORIES:Wood Chipping
ATTACH;FMTTYPE=image/jpeg:https://sbcfire.org/wp-content/uploads/sites/46/2022/04/05.07.22-Wood-Chipping-1-e1649376152253.jpg
END:VEVENT
BEGIN:VEVENT
DTSTART;TZID=America/Los_Angeles:20240306T080000
DTEND;TZID=America/Los_Angeles:20240306T170000
DTSTAMP:20260422T094939
CREATED:20201216T200524Z
LAST-MODIFIED:20201216T200754Z
UID:10005171-1709712000-1709744400@sbcfire.org
SUMMARY:Food Give Away- SB
DESCRIPTION:
URL:https://sbcfire.org/event/food-give-away-sb/2024-03-06/
LOCATION:CA
CATEGORIES:DDC
END:VEVENT
BEGIN:VEVENT
DTSTART;TZID=America/Los_Angeles:20240306T090000
DTEND;TZID=America/Los_Angeles:20240308T150000
DTSTAMP:20260422T094939
CREATED:20220408T191707Z
LAST-MODIFIED:20220408T191707Z
UID:10007454-1709715600-1709910000@sbcfire.org
SUMMARY:Community Chipping - Wrightwood
DESCRIPTION:The San Bernardino County Fire Protection District (#SBCoFD)\, in cooperation with the San Bernardino County Public Works\, Mountain Rim Fire Safe Council\, Wrightwood Fire Safe Council are offering wood chipping throughout the mountain communities prior to the summer and fall\, when the threat of wildfire is elevated. In an effort to bolster safety in these areas\, these agencies will assist residents in maintaining wildfire safety in their communities. \nResidents are invited to bring cut brush and branches\, limbs up to 15″ in diameter and 10′ in length. Limbs and brush only. Leaves and pine needles cannot be chipped. Chipping is available at no charge. \n#SBCoFD encourages residents to get prepared for wildfire weather. For safety tips\, including creating your Ready! Set! Go! Personal Wildfire Action Plan\, visit https://sbcfire.co/ReadySetGoFire \nFor more info call (909) 336-7086.
URL:https://sbcfire.org/event/community-chipping-wrightwood/2024-03-06/
LOCATION:1500 CA-2\, 1500 CA-2\, Wrightwood\, CA\, 92397\, United States
CATEGORIES:Wood Chipping
ATTACH;FMTTYPE=image/jpeg:https://sbcfire.org/wp-content/uploads/sites/46/2022/04/05.07.22-Wood-Chipping-1-e1649376152253.jpg
END:VEVENT
BEGIN:VEVENT
DTSTART;TZID=America/Los_Angeles:20240307T090000
DTEND;TZID=America/Los_Angeles:20240309T150000
DTSTAMP:20260422T094939
CREATED:20220408T191707Z
LAST-MODIFIED:20220408T191707Z
UID:10007457-1709802000-1709996400@sbcfire.org
SUMMARY:Community Chipping - Wrightwood
DESCRIPTION:The San Bernardino County Fire Protection District (#SBCoFD)\, in cooperation with the San Bernardino County Public Works\, Mountain Rim Fire Safe Council\, Wrightwood Fire Safe Council are offering wood chipping throughout the mountain communities prior to the summer and fall\, when the threat of wildfire is elevated. In an effort to bolster safety in these areas\, these agencies will assist residents in maintaining wildfire safety in their communities. \nResidents are invited to bring cut brush and branches\, limbs up to 15″ in diameter and 10′ in length. Limbs and brush only. Leaves and pine needles cannot be chipped. Chipping is available at no charge. \n#SBCoFD encourages residents to get prepared for wildfire weather. For safety tips\, including creating your Ready! Set! Go! Personal Wildfire Action Plan\, visit https://sbcfire.co/ReadySetGoFire \nFor more info call (909) 336-7086.
URL:https://sbcfire.org/event/community-chipping-wrightwood/2024-03-07/
LOCATION:1500 CA-2\, 1500 CA-2\, Wrightwood\, CA\, 92397\, United States
CATEGORIES:Wood Chipping
ATTACH;FMTTYPE=image/jpeg:https://sbcfire.org/wp-content/uploads/sites/46/2022/04/05.07.22-Wood-Chipping-1-e1649376152253.jpg
END:VEVENT
BEGIN:VEVENT
DTSTART;TZID=America/Los_Angeles:20240308T090000
DTEND;TZID=America/Los_Angeles:20240310T150000
DTSTAMP:20260422T094939
CREATED:20220408T191707Z
LAST-MODIFIED:20220408T191707Z
UID:10007460-1709888400-1710082800@sbcfire.org
SUMMARY:Community Chipping - Wrightwood
DESCRIPTION:The San Bernardino County Fire Protection District (#SBCoFD)\, in cooperation with the San Bernardino County Public Works\, Mountain Rim Fire Safe Council\, Wrightwood Fire Safe Council are offering wood chipping throughout the mountain communities prior to the summer and fall\, when the threat of wildfire is elevated. In an effort to bolster safety in these areas\, these agencies will assist residents in maintaining wildfire safety in their communities. \nResidents are invited to bring cut brush and branches\, limbs up to 15″ in diameter and 10′ in length. Limbs and brush only. Leaves and pine needles cannot be chipped. Chipping is available at no charge. \n#SBCoFD encourages residents to get prepared for wildfire weather. For safety tips\, including creating your Ready! Set! Go! Personal Wildfire Action Plan\, visit https://sbcfire.co/ReadySetGoFire \nFor more info call (909) 336-7086.
URL:https://sbcfire.org/event/community-chipping-wrightwood/2024-03-08/
LOCATION:1500 CA-2\, 1500 CA-2\, Wrightwood\, CA\, 92397\, United States
CATEGORIES:Wood Chipping
ATTACH;FMTTYPE=image/jpeg:https://sbcfire.org/wp-content/uploads/sites/46/2022/04/05.07.22-Wood-Chipping-1-e1649376152253.jpg
END:VEVENT
BEGIN:VEVENT
DTSTART;TZID=America/Los_Angeles:20240309T080000
DTEND;TZID=America/Los_Angeles:20240309T120000
DTSTAMP:20260422T094939
CREATED:20240131T174327Z
LAST-MODIFIED:20240131T174327Z
UID:10008825-1709971200-1709985600@sbcfire.org
SUMMARY:Trona Household Hazardous Waste Collection
DESCRIPTION:Trona residents!\n\nJoin the SBCoFD Household Hazardous Waste (HHW) team on 03/09/2024 from 8 am to 12 pm at the County Fire Station\, 83732 Trona Rd.\, Trona\, CA 93562.\n\nDrop off HHW items such as antifreeze\, electronics\, batteries\, oil\, oil filters\, cosmetics\, pesticides\, and much more!\n\nTransport no more than 15 gallons or 125 lbs in containers larger than 5 gallons. Containers must be sound and not leaking.\n\nNo business waste will be accepted.\n\nPlease have all waste in the back of the vehicle. (except sharps/needles should be w/ driver)\n\nAvailable only to San Bernardino County Residents. Proof of residency required.\n\nCall 1-800-Oily Cat(645-9228) or visit sbcfire.org/hhw to learn about all the ways you can help keep our county clean with our  programs\n\n\n\nFor more information click on link for flyer: Trona HHW Collection Eng-Sp Flyer
URL:https://sbcfire.org/event/trona-household-hazardous-waste-collection-5/
LOCATION:Trona Fire Station\, 83732 Trona Road\, Trona\, CA\, 93562\, United States
CATEGORIES:Household Hazardous Waste
ATTACH;FMTTYPE=image/jpeg:https://sbcfire.org/wp-content/uploads/sites/46/2021/09/Yucaipa-HHW-Collection-10.31.20-Part-11.jpg
END:VEVENT
BEGIN:VEVENT
DTSTART;TZID=America/Los_Angeles:20240309T090000
DTEND;TZID=America/Los_Angeles:20240311T150000
DTSTAMP:20260422T094939
CREATED:20220408T191707Z
LAST-MODIFIED:20220408T191707Z
UID:10007463-1709974800-1710169200@sbcfire.org
SUMMARY:Community Chipping - Wrightwood
DESCRIPTION:The San Bernardino County Fire Protection District (#SBCoFD)\, in cooperation with the San Bernardino County Public Works\, Mountain Rim Fire Safe Council\, Wrightwood Fire Safe Council are offering wood chipping throughout the mountain communities prior to the summer and fall\, when the threat of wildfire is elevated. In an effort to bolster safety in these areas\, these agencies will assist residents in maintaining wildfire safety in their communities. \nResidents are invited to bring cut brush and branches\, limbs up to 15″ in diameter and 10′ in length. Limbs and brush only. Leaves and pine needles cannot be chipped. Chipping is available at no charge. \n#SBCoFD encourages residents to get prepared for wildfire weather. For safety tips\, including creating your Ready! Set! Go! Personal Wildfire Action Plan\, visit https://sbcfire.co/ReadySetGoFire \nFor more info call (909) 336-7086.
URL:https://sbcfire.org/event/community-chipping-wrightwood/2024-03-09/
LOCATION:1500 CA-2\, 1500 CA-2\, Wrightwood\, CA\, 92397\, United States
CATEGORIES:Wood Chipping
ATTACH;FMTTYPE=image/jpeg:https://sbcfire.org/wp-content/uploads/sites/46/2022/04/05.07.22-Wood-Chipping-1-e1649376152253.jpg
END:VEVENT
BEGIN:VEVENT
DTSTART;TZID=America/Los_Angeles:20240316T090000
DTEND;TZID=America/Los_Angeles:20240316T140000
DTSTAMP:20260422T094939
CREATED:20240201T171431Z
LAST-MODIFIED:20240201T171431Z
UID:10008828-1710579600-1710597600@sbcfire.org
SUMMARY:Hesperia Used Oil Filter Exchange & Recycling Event
DESCRIPTION:Click here for the Hesperia OFE Flyer–>Hesperia English-Spanish Flyer \nJoin the #SBCoFD Household Hazardous Waste team on Saturday\, March 16\, 2024\, from 9 AM to 2 PM at AutoZone\, 17115 Main St.\, Hesperia\, Ca 92345 \nBring Used Oil Filters to Recycle and Exchange for a voucher to get a new one Free!  (Max 1 voucher per household) \nOil and oil filters don’t go in the trash!!!!! \nUsed oil is also accepted at this AutoZone (must be in a non-contaminated oil container). \nOnly San Bernardino County residents (proof of county residency required). \nFor more information\, call 1-800-Oily Cat (645-9228) or visit Sbcfire.org/hhw \n#SBCoFDHHW
URL:https://sbcfire.org/event/hesperia-used-oil-filter-exchange-recycling-event-3/
LOCATION:AutoZone Hesperia\, 17115 Main Street\, Hesperia\, CA\, 92345\, United States
CATEGORIES:Household Hazardous Waste
ATTACH;FMTTYPE=image/jpeg:https://sbcfire.org/wp-content/uploads/sites/46/2022/05/52235-HHW-Generic-Social-Media-Graphics-FB19.jpg
END:VEVENT
BEGIN:VEVENT
DTSTART;TZID=America/Los_Angeles:20240323T090000
DTEND;TZID=America/Los_Angeles:20240323T120000
DTSTAMP:20260422T094939
CREATED:20240213T160427Z
LAST-MODIFIED:20240213T160427Z
UID:10008876-1711184400-1711195200@sbcfire.org
SUMMARY:Lucerne Valley Household Hazardous Waste Collection
DESCRIPTION:Click Here for the flyer: Lucerne Valley HHW Collection Flyer \nJoin the #SBCoFD Household Hazardous Waste(HHW) team on 3/23/24 from 9 AM to 12 PM behind the Lucerne Valley Fire Station\, 33269 Old Woman Springs Rd\, Lucerne Valley\, CA. (Enter through gate on Ladera Rd)\n\nDrop off HHW items such as antifreeze\, electronics\, batteries\, oil\, oil filters\, cosmetics\, pesticides\, medications and much more!\n\nTransport no more than 15 gallons or 125 lbs in containers larger than 5 gallons. Containers must be sound and not leaking. No business waste will be accepted.\nPlease have all waste in the back of the vehicle. (Except sharps should be up front with driver)\nCall 1-800-Oily Cat(645-9228) or visit Sbcfire.org/hhw to learn about all the ways you can help keep our county clean with our #SBCoFDHHW programs.
URL:https://sbcfire.org/event/lucerne-valley-household-hazardous-waste-collection-3/
LOCATION:Lucerne Valley Fire Station\, 33269 Old Woman Springs Road\, Lucerne Valey\, CA\, 92356\, United States
CATEGORIES:Household Hazardous Waste
ATTACH;FMTTYPE=image/jpeg:https://sbcfire.org/wp-content/uploads/sites/46/2021/11/Yucca-Valley-4.24.21-Part-2.wide-with-logo.jpg
END:VEVENT
END:VCALENDAR