BEGIN:VCALENDAR
VERSION:2.0
PRODID:-//San Bernardino County Fire Protection District - ECPv6.15.14//NONSGML v1.0//EN
CALSCALE:GREGORIAN
METHOD:PUBLISH
X-ORIGINAL-URL:https://sbcfire.org
X-WR-CALDESC:Events for San Bernardino County Fire Protection District
REFRESH-INTERVAL;VALUE=DURATION:PT1H
X-Robots-Tag:noindex
X-PUBLISHED-TTL:PT1H
BEGIN:VTIMEZONE
TZID:America/Los_Angeles
BEGIN:DAYLIGHT
TZOFFSETFROM:-0800
TZOFFSETTO:-0700
TZNAME:PDT
DTSTART:20210314T100000
END:DAYLIGHT
BEGIN:STANDARD
TZOFFSETFROM:-0700
TZOFFSETTO:-0800
TZNAME:PST
DTSTART:20211107T090000
END:STANDARD
BEGIN:DAYLIGHT
TZOFFSETFROM:-0800
TZOFFSETTO:-0700
TZNAME:PDT
DTSTART:20220313T100000
END:DAYLIGHT
BEGIN:STANDARD
TZOFFSETFROM:-0700
TZOFFSETTO:-0800
TZNAME:PST
DTSTART:20221106T090000
END:STANDARD
BEGIN:DAYLIGHT
TZOFFSETFROM:-0800
TZOFFSETTO:-0700
TZNAME:PDT
DTSTART:20230312T100000
END:DAYLIGHT
BEGIN:STANDARD
TZOFFSETFROM:-0700
TZOFFSETTO:-0800
TZNAME:PST
DTSTART:20231105T090000
END:STANDARD
END:VTIMEZONE
BEGIN:VEVENT
DTSTART;TZID=America/Los_Angeles:20220504T080000
DTEND;TZID=America/Los_Angeles:20220504T170000
DTSTAMP:20260423T220105
CREATED:20201216T200524Z
LAST-MODIFIED:20201216T200754Z
UID:10004883-1651651200-1651683600@sbcfire.org
SUMMARY:Food Give Away- SB
DESCRIPTION:
URL:https://sbcfire.org/event/food-give-away-sb/2022-05-04/
LOCATION:CA
CATEGORIES:DDC
END:VEVENT
BEGIN:VEVENT
DTSTART;TZID=America/Los_Angeles:20220507T090000
DTEND;TZID=America/Los_Angeles:20220507T150000
DTSTAMP:20260423T220105
CREATED:20220407T220632Z
LAST-MODIFIED:20220407T220709Z
UID:10005507-1651914000-1651935600@sbcfire.org
SUMMARY:Community Chipping - Angelus Oaks
DESCRIPTION:The San Bernardino County Fire Protection District (#SBCoFD)\, in cooperation with the San Bernardino County Public Works\, Mountain Rim Fire Safe Council\, Wrightwood Fire Safe Council are offering wood chipping throughout the mountain communities prior to the summer and fall\, when the threat of wildfire is elevated. In an effort to bolster safety in these areas\, these agencies will assist residents in maintaining wildfire safety in their communities. \nResidents are invited to bring cut brush and branches\, limbs up to 15″ in diameter and 10′ in length. Limbs and brush only. Leaves and pine needles cannot be chipped. Chipping is available at no charge. \nResidents may leave their debris on the curb in front of their homes and crews will pick them up. \n#SBCoFD encourages residents to get prepared for wildfire weather. For safety tips\, including creating your Ready! Set! Go! Personal Wildfire Action Plan\, visit https://sbcfire.co/ReadySetGoFire \nFor more info call (909) 336-7086.
URL:https://sbcfire.org/event/20220507-woodchipping/
LOCATION:CA
CATEGORIES:Wood Chipping
ATTACH;FMTTYPE=image/jpeg:https://sbcfire.org/wp-content/uploads/sites/46/2022/04/05.07.22-Wood-Chipping-e1649369034214.jpg
END:VEVENT
BEGIN:VEVENT
DTSTART;TZID=America/Los_Angeles:20220511T080000
DTEND;TZID=America/Los_Angeles:20220511T170000
DTSTAMP:20260423T220105
CREATED:20201216T200524Z
LAST-MODIFIED:20201216T200754Z
UID:10004886-1652256000-1652288400@sbcfire.org
SUMMARY:Food Give Away- SB
DESCRIPTION:
URL:https://sbcfire.org/event/food-give-away-sb/2022-05-11/
LOCATION:CA
CATEGORIES:DDC
END:VEVENT
BEGIN:VEVENT
DTSTART;TZID=America/Los_Angeles:20220514T090000
DTEND;TZID=America/Los_Angeles:20220514T140000
DTSTAMP:20260423T220105
CREATED:20220211T202941Z
LAST-MODIFIED:20220211T202941Z
UID:10004547-1652518800-1652536800@sbcfire.org
SUMMARY:Adelanto Used Oil Filter Exchange & Recycling Event
DESCRIPTION:Click here for the Adelanto OFE Flyer–> N511 HHW Adelanto 5-14-22 Web Flyer Eng-Sp PROOF2 \nJoin the #SBCoFD Household Hazardous Waste team on Saturday\, May 14\, 2022 from 9 AM to 2 PM at AutoZone\, 14289 US Hwy 395\, Victorville\, CA. \nBring your Used Oil Filters to Recycle and Exchange for up to a $15 oil filter voucher! (max 1 vouchers per household)\nFree oil change kits available! \nOil and oil filters don’t go in the trash!\nUsed oil is also accepted at this AutoZone and must be in non-contaminated oil container. \nOnly San Bernardino County residents. (proof of county residency required) \nFor more information\, call 1-800-Oily Cat(645-9228) or visit Sbcfire.org/hhw. #SBCoFDHHW
URL:https://sbcfire.org/event/adelanto-used-oil-filter-exchange-recycling-event/
LOCATION:AutoZone Adelanto\, 14289 HWY 395\, Victorviile\, CA\, 92394\, United States
CATEGORIES:Household Hazardous Waste
ATTACH;FMTTYPE=image/jpeg:https://sbcfire.org/wp-content/uploads/sites/46/2022/02/52235-HHW-Generic-Social-Media-Graphics-FB19.jpg
END:VEVENT
BEGIN:VEVENT
DTSTART;TZID=America/Los_Angeles:20220514T090000
DTEND;TZID=America/Los_Angeles:20220514T150000
DTSTAMP:20260423T220105
CREATED:20220407T222250Z
LAST-MODIFIED:20220407T222250Z
UID:10005510-1652518800-1652540400@sbcfire.org
SUMMARY:Community Chipping - Forest Falls
DESCRIPTION:The San Bernardino County Fire Protection District (#SBCoFD)\, in cooperation with the San Bernardino County Public Works\, Mountain Rim Fire Safe Council\, Wrightwood Fire Safe Council are offering wood chipping throughout the mountain communities prior to the summer and fall\, when the threat of wildfire is elevated. In an effort to bolster safety in these areas\, these agencies will assist residents in maintaining wildfire safety in their communities. \nResidents are invited to bring cut brush and branches\, limbs up to 15″ in diameter and 10′ in length. Limbs and brush only. Leaves and pine needles cannot be chipped. Chipping is available at no charge. \nResidents may leave their debris on the curb in front of their homes and crews will pick them up. \n#SBCoFD encourages residents to get prepared for wildfire weather. For safety tips\, including creating your Ready! Set! Go! Personal Wildfire Action Plan\, visit https://sbcfire.co/ReadySetGoFire \nFor more info call (909) 336-7086.
URL:https://sbcfire.org/event/community-chipping-forest-falls/2022-05-14/
LOCATION:CA
CATEGORIES:Wood Chipping
ATTACH;FMTTYPE=image/jpeg:https://sbcfire.org/wp-content/uploads/sites/46/2022/04/05.07.22-Wood-Chipping-e1649369034214.jpg
END:VEVENT
BEGIN:VEVENT
DTSTART;TZID=America/Los_Angeles:20220515T090000
DTEND;TZID=America/Los_Angeles:20220515T150000
DTSTAMP:20260423T220105
CREATED:20220407T222250Z
LAST-MODIFIED:20220407T222250Z
UID:10005513-1652605200-1652626800@sbcfire.org
SUMMARY:Community Chipping - Forest Falls
DESCRIPTION:The San Bernardino County Fire Protection District (#SBCoFD)\, in cooperation with the San Bernardino County Public Works\, Mountain Rim Fire Safe Council\, Wrightwood Fire Safe Council are offering wood chipping throughout the mountain communities prior to the summer and fall\, when the threat of wildfire is elevated. In an effort to bolster safety in these areas\, these agencies will assist residents in maintaining wildfire safety in their communities. \nResidents are invited to bring cut brush and branches\, limbs up to 15″ in diameter and 10′ in length. Limbs and brush only. Leaves and pine needles cannot be chipped. Chipping is available at no charge. \nResidents may leave their debris on the curb in front of their homes and crews will pick them up. \n#SBCoFD encourages residents to get prepared for wildfire weather. For safety tips\, including creating your Ready! Set! Go! Personal Wildfire Action Plan\, visit https://sbcfire.co/ReadySetGoFire \nFor more info call (909) 336-7086.
URL:https://sbcfire.org/event/community-chipping-forest-falls/2022-05-15/
LOCATION:CA
CATEGORIES:Wood Chipping
ATTACH;FMTTYPE=image/jpeg:https://sbcfire.org/wp-content/uploads/sites/46/2022/04/05.07.22-Wood-Chipping-e1649369034214.jpg
END:VEVENT
BEGIN:VEVENT
DTSTART;TZID=America/Los_Angeles:20220518T080000
DTEND;TZID=America/Los_Angeles:20220518T170000
DTSTAMP:20260423T220105
CREATED:20201216T200524Z
LAST-MODIFIED:20201216T200754Z
UID:10004889-1652860800-1652893200@sbcfire.org
SUMMARY:Food Give Away- SB
DESCRIPTION:
URL:https://sbcfire.org/event/food-give-away-sb/2022-05-18/
LOCATION:CA
CATEGORIES:DDC
END:VEVENT
BEGIN:VEVENT
DTSTART;TZID=America/Los_Angeles:20220521T090000
DTEND;TZID=America/Los_Angeles:20220521T150000
DTSTAMP:20260423T220105
CREATED:20220408T000404Z
LAST-MODIFIED:20220408T000404Z
UID:10005516-1653123600-1653145200@sbcfire.org
SUMMARY:Community Chipping - Lake Arrowhead
DESCRIPTION:The San Bernardino County Fire Protection District (#SBCoFD)\, in cooperation with the San Bernardino County Public Works\, Mountain Rim Fire Safe Council\, Wrightwood Fire Safe Council are offering wood chipping throughout the mountain communities prior to the summer and fall\, when the threat of wildfire is elevated. In an effort to bolster safety in these areas\, these agencies will assist residents in maintaining wildfire safety in their communities. \nResidents are invited to bring cut brush and branches\, limbs up to 15″ in diameter and 10′ in length. Limbs and brush only. Leaves and pine needles cannot be chipped. Chipping is available at no charge. \n#SBCoFD encourages residents to get prepared for wildfire weather. For safety tips\, including creating your Ready! Set! Go! Personal Wildfire Action Plan\, visit https://sbcfire.co/ReadySetGoFire \nFor more info call (909) 336-7086.
URL:https://sbcfire.org/event/20220521-22-woodchipping/2022-05-21/
LOCATION:USFS: Arrowhead Ranger District\, 28104 Highway 18\, Skyforest\, CA\, 92385\, United States
CATEGORIES:Wood Chipping
ATTACH;FMTTYPE=image/jpeg:https://sbcfire.org/wp-content/uploads/sites/46/2022/04/05.07.22-Wood-Chipping-1-e1649376152253.jpg
END:VEVENT
BEGIN:VEVENT
DTSTART;TZID=America/Los_Angeles:20220522T090000
DTEND;TZID=America/Los_Angeles:20220522T150000
DTSTAMP:20260423T220105
CREATED:20220408T000404Z
LAST-MODIFIED:20220408T000404Z
UID:10005519-1653210000-1653231600@sbcfire.org
SUMMARY:Community Chipping - Lake Arrowhead
DESCRIPTION:The San Bernardino County Fire Protection District (#SBCoFD)\, in cooperation with the San Bernardino County Public Works\, Mountain Rim Fire Safe Council\, Wrightwood Fire Safe Council are offering wood chipping throughout the mountain communities prior to the summer and fall\, when the threat of wildfire is elevated. In an effort to bolster safety in these areas\, these agencies will assist residents in maintaining wildfire safety in their communities. \nResidents are invited to bring cut brush and branches\, limbs up to 15″ in diameter and 10′ in length. Limbs and brush only. Leaves and pine needles cannot be chipped. Chipping is available at no charge. \n#SBCoFD encourages residents to get prepared for wildfire weather. For safety tips\, including creating your Ready! Set! Go! Personal Wildfire Action Plan\, visit https://sbcfire.co/ReadySetGoFire \nFor more info call (909) 336-7086.
URL:https://sbcfire.org/event/20220521-22-woodchipping/2022-05-22/
LOCATION:USFS: Arrowhead Ranger District\, 28104 Highway 18\, Skyforest\, CA\, 92385\, United States
CATEGORIES:Wood Chipping
ATTACH;FMTTYPE=image/jpeg:https://sbcfire.org/wp-content/uploads/sites/46/2022/04/05.07.22-Wood-Chipping-1-e1649376152253.jpg
END:VEVENT
BEGIN:VEVENT
DTSTART;TZID=America/Los_Angeles:20220525T080000
DTEND;TZID=America/Los_Angeles:20220525T170000
DTSTAMP:20260423T220105
CREATED:20201216T200524Z
LAST-MODIFIED:20201216T200754Z
UID:10004892-1653465600-1653498000@sbcfire.org
SUMMARY:Food Give Away- SB
DESCRIPTION:
URL:https://sbcfire.org/event/food-give-away-sb/2022-05-25/
LOCATION:CA
CATEGORIES:DDC
END:VEVENT
BEGIN:VEVENT
DTSTART;TZID=America/Los_Angeles:20220528T090000
DTEND;TZID=America/Los_Angeles:20220528T150000
DTSTAMP:20260423T220105
CREATED:20220408T164933Z
LAST-MODIFIED:20220518T153259Z
UID:10005522-1653728400-1653750000@sbcfire.org
SUMMARY:Community Chipping - Crestline Lake Gregory
DESCRIPTION:Drop-off location will be in the south parking lot. \nThe San Bernardino County Fire Protection District (#SBCoFD)\, in cooperation with the San Bernardino County Public Works\, Mountain Rim Fire Safe Council\, Wrightwood Fire Safe Council are offering wood chipping throughout the mountain communities prior to the summer and fall\, when the threat of wildfire is elevated. In an effort to bolster safety in these areas\, these agencies will assist residents in maintaining wildfire safety in their communities. \nResidents are invited to bring cut brush and branches\, limbs up to 15″ in diameter and 10′ in length. Limbs and brush only. Leaves and pine needles cannot be chipped. Chipping is available at no charge. \n#SBCoFD encourages residents to get prepared for wildfire weather. For safety tips\, including creating your Ready! Set! Go! Personal Wildfire Action Plan\, visit https://sbcfire.co/ReadySetGoFire \nFor more info call (909) 336-7086.
URL:https://sbcfire.org/event/community-chipping-crestline-lake-gregory/
LOCATION:Fire Station 29\, 24538 Lake Dr.\, Crestline\, CA\, 92325\, United States
CATEGORIES:Wood Chipping
ATTACH;FMTTYPE=image/jpeg:https://sbcfire.org/wp-content/uploads/sites/46/2022/04/05.07.22-Wood-Chipping-1-e1649376152253.jpg
END:VEVENT
BEGIN:VEVENT
DTSTART;TZID=America/Los_Angeles:20220528T140000
DTEND;TZID=America/Los_Angeles:20220530T220000
DTSTAMP:20260423T220105
CREATED:20220526T234606Z
LAST-MODIFIED:20220526T234606Z
UID:10004604-1653746400-1653948000@sbcfire.org
SUMMARY:San Bernardino County Fair
DESCRIPTION:Come join #SBCoFDHHW and Community Safety at the SB County Fair this year! Come check out our booth for some swag and knowledge. We hope to see there! \n  \n2022 SBC Fair Hours: \nMay 28th-30th\nJune 3rd-5th\nGates open at 2:00pm everyday
URL:https://sbcfire.org/event/san-bernardino-county-fair/
LOCATION:San Bernardino County Fair Grounds\, 14800 7th Street\, Victorville\, CA\, 92395\, United States
CATEGORIES:Household Hazardous Waste
END:VEVENT
BEGIN:VEVENT
DTSTART;TZID=America/Los_Angeles:20220529T090000
DTEND;TZID=America/Los_Angeles:20220529T150000
DTSTAMP:20260423T220105
CREATED:20220408T183120Z
LAST-MODIFIED:20220408T183420Z
UID:10005525-1653814800-1653836400@sbcfire.org
SUMMARY:Community Chipping - Twin Peaks
DESCRIPTION:The San Bernardino County Fire Protection District (#SBCoFD)\, in cooperation with the San Bernardino County Public Works\, Mountain Rim Fire Safe Council\, Wrightwood Fire Safe Council are offering wood chipping throughout the mountain communities prior to the summer and fall\, when the threat of wildfire is elevated. In an effort to bolster safety in these areas\, these agencies will assist residents in maintaining wildfire safety in their communities. \nResidents are invited to bring cut brush and branches\, limbs up to 15″ in diameter and 10′ in length. Limbs and brush only. Leaves and pine needles cannot be chipped. Chipping is available at no charge. \n#SBCoFD encourages residents to get prepared for wildfire weather. For safety tips\, including creating your Ready! Set! Go! Personal Wildfire Action Plan\, visit https://sbcfire.co/ReadySetGoFire \nFor more info call (909) 336-7086.
URL:https://sbcfire.org/event/community-chipping-twin-peaks/
LOCATION:737 Grandview Rd\, 737 Grandview Rd\, Twin Peaks\, CA\, 92391
CATEGORIES:Wood Chipping
ATTACH;FMTTYPE=image/jpeg:https://sbcfire.org/wp-content/uploads/sites/46/2022/04/05.07.22-Wood-Chipping-1-e1649376152253.jpg
END:VEVENT
END:VCALENDAR