BEGIN:VCALENDAR
VERSION:2.0
PRODID:-//San Bernardino County Fire Protection District - ECPv6.15.14//NONSGML v1.0//EN
CALSCALE:GREGORIAN
METHOD:PUBLISH
X-WR-CALNAME:San Bernardino County Fire Protection District
X-ORIGINAL-URL:https://sbcfire.org
X-WR-CALDESC:Events for San Bernardino County Fire Protection District
REFRESH-INTERVAL;VALUE=DURATION:PT1H
X-Robots-Tag:noindex
X-PUBLISHED-TTL:PT1H
BEGIN:VTIMEZONE
TZID:America/Los_Angeles
BEGIN:DAYLIGHT
TZOFFSETFROM:-0800
TZOFFSETTO:-0700
TZNAME:PDT
DTSTART:20210314T100000
END:DAYLIGHT
BEGIN:STANDARD
TZOFFSETFROM:-0700
TZOFFSETTO:-0800
TZNAME:PST
DTSTART:20211107T090000
END:STANDARD
BEGIN:DAYLIGHT
TZOFFSETFROM:-0800
TZOFFSETTO:-0700
TZNAME:PDT
DTSTART:20220313T100000
END:DAYLIGHT
BEGIN:STANDARD
TZOFFSETFROM:-0700
TZOFFSETTO:-0800
TZNAME:PST
DTSTART:20221106T090000
END:STANDARD
BEGIN:DAYLIGHT
TZOFFSETFROM:-0800
TZOFFSETTO:-0700
TZNAME:PDT
DTSTART:20230312T100000
END:DAYLIGHT
BEGIN:STANDARD
TZOFFSETFROM:-0700
TZOFFSETTO:-0800
TZNAME:PST
DTSTART:20231105T090000
END:STANDARD
END:VTIMEZONE
BEGIN:VEVENT
DTSTART;TZID=America/Los_Angeles:20220403T090000
DTEND;TZID=America/Los_Angeles:20220403T130000
DTSTAMP:20260423T232844
CREATED:20220106T154047Z
LAST-MODIFIED:20220106T154047Z
UID:10004472-1648976400-1648990800@sbcfire.org
SUMMARY:Loma Linda E-Waste\, Sharps\, & Battery Collection
DESCRIPTION:The City of Loma Linda will be conducting a FREE E-Waste Collection on 4/3/22 from 9 AM to 1 PM at the Loma Linda City Hall Parking Lot\, 25541 Barton Rd\, Loma Linda.\nItems Accepted: Computer monitors\, television sets\, CPU’s\, Laptops\, printers\, cell phones\, etc.\nNot Accepted: Large Appliances\, Vacuums\, Household Hazardous Waste\, Business Waste\, Medications\, Microwaves \nSan Bernardino County Fire Protection District\, Household Hazardous Waste Division\, partners with the City and provides a special Collection of household batteries\, fluorescent light bulbs\, and Sharps/Needles (Need to be in approved Bio-hazard container or in an approved alternative container) during the collection.\nE-Waste\, Batteries\, and Sharps Collection open to only San Bernardino County residents. (Proof of residency required) \nAll waste should be in the back of the vehicle except Sharps in approved containers should be up front with driver.\nFor questions on the E Waste Collection\, call The City of Loma Linda at (909) 799-4400 or visit the City of Loma Linda’s website for more information.\nFor questions on household hazardous waste\, or call 1-800-Oily Cat for your nearest HHW disposal site. \n 
URL:https://sbcfire.org/event/loma-linda-e-waste-sharps-battery-collection/
LOCATION:Loma Linda City Hall Parking Lot\, 25541 Barton Road\, Loma Linda\, 92354\, United States
CATEGORIES:Household Hazardous Waste
ATTACH;FMTTYPE=image/png:https://sbcfire.org/wp-content/uploads/sites/46/2021/07/768x432-E-Waste-Graphic.png
END:VEVENT
BEGIN:VEVENT
DTSTART;TZID=America/Los_Angeles:20220406T080000
DTEND;TZID=America/Los_Angeles:20220406T170000
DTSTAMP:20260423T232844
CREATED:20201216T200524Z
LAST-MODIFIED:20201216T200754Z
UID:10004871-1649232000-1649264400@sbcfire.org
SUMMARY:Food Give Away- SB
DESCRIPTION:
URL:https://sbcfire.org/event/food-give-away-sb/2022-04-06/
LOCATION:CA
CATEGORIES:DDC
END:VEVENT
BEGIN:VEVENT
DTSTART;TZID=America/Los_Angeles:20220409T080000
DTEND;TZID=America/Los_Angeles:20220409T120000
DTSTAMP:20260423T232844
CREATED:20220215T000729Z
LAST-MODIFIED:20220215T000729Z
UID:10004550-1649491200-1649505600@sbcfire.org
SUMMARY:Yucaipa Household Hazardous Waste Collection
DESCRIPTION:Join the #SBCoFD Household Hazardous Waste(HHW) team on 4/9/2022 from 8 AM to 12 PM at the Equestrian Center\, 13273 California Street\, Yucaipa\, CA.\nDrop off HHW items such as antifreeze\, electronics\, batteries\, oil\, oil filters\, household cleaners\, sharps in approved containers\, medications\, cosmetics\, pesticides\, and much more!\nVisit Sbcfire.org/hhw for a full list of accepted /non-accepted items.\nClick here for the Collection flyer –> 44956 Yucaipa Collection Eng-Sp Flyer 4.9.22 flyer\n\nTransport no more than 15 gallons or 125 lbs in containers larger than 5 gallons. Containers must be sound and not leaking. No business waste\, tires\, yard waste\, asbestos\, and solid waste will be accepted.\n\nPlease have all waste in the back of the vehicle. (except sharps should be with driver)\nAvailable only to San Bernardino County residents. Waste will not be accepted before 8 AM or after 12 PM.\nCall 1-800-Oily Cat(645-9228) or visit Sbcfire.org/hhw to learn about all the ways you can help keep our county clean with our #SBCoFDHHW programs.
URL:https://sbcfire.org/event/yucaipa-household-hazardous-waste-collection-3/
LOCATION:Yucaipa Equestrian Center\, 13273 California Street\, Yucaipa\, 92399\, United States
CATEGORIES:Household Hazardous Waste
ATTACH;FMTTYPE=image/jpeg:https://sbcfire.org/wp-content/uploads/sites/46/2022/02/Grand-Terrace-2016-collection-image_wide.jpg
END:VEVENT
BEGIN:VEVENT
DTSTART;TZID=America/Los_Angeles:20220413T080000
DTEND;TZID=America/Los_Angeles:20220413T170000
DTSTAMP:20260423T232844
CREATED:20201216T200524Z
LAST-MODIFIED:20201216T200754Z
UID:10004874-1649836800-1649869200@sbcfire.org
SUMMARY:Food Give Away- SB
DESCRIPTION:
URL:https://sbcfire.org/event/food-give-away-sb/2022-04-13/
LOCATION:CA
CATEGORIES:DDC
END:VEVENT
BEGIN:VEVENT
DTSTART;TZID=America/Los_Angeles:20220420T080000
DTEND;TZID=America/Los_Angeles:20220420T170000
DTSTAMP:20260423T232844
CREATED:20201216T200524Z
LAST-MODIFIED:20201216T200754Z
UID:10004877-1650441600-1650474000@sbcfire.org
SUMMARY:Food Give Away- SB
DESCRIPTION:
URL:https://sbcfire.org/event/food-give-away-sb/2022-04-20/
LOCATION:CA
CATEGORIES:DDC
END:VEVENT
BEGIN:VEVENT
DTSTART;TZID=America/Los_Angeles:20220427T080000
DTEND;TZID=America/Los_Angeles:20220427T170000
DTSTAMP:20260423T232844
CREATED:20201216T200524Z
LAST-MODIFIED:20201216T200754Z
UID:10004880-1651046400-1651078800@sbcfire.org
SUMMARY:Food Give Away- SB
DESCRIPTION:
URL:https://sbcfire.org/event/food-give-away-sb/2022-04-27/
LOCATION:CA
CATEGORIES:DDC
END:VEVENT
END:VCALENDAR