BEGIN:VCALENDAR
VERSION:2.0
PRODID:-//San Bernardino County Fire Protection District - ECPv6.15.14//NONSGML v1.0//EN
CALSCALE:GREGORIAN
METHOD:PUBLISH
X-WR-CALNAME:San Bernardino County Fire Protection District
X-ORIGINAL-URL:https://sbcfire.org
X-WR-CALDESC:Events for San Bernardino County Fire Protection District
REFRESH-INTERVAL;VALUE=DURATION:PT1H
X-Robots-Tag:noindex
X-PUBLISHED-TTL:PT1H
BEGIN:VTIMEZONE
TZID:America/Los_Angeles
BEGIN:DAYLIGHT
TZOFFSETFROM:-0800
TZOFFSETTO:-0700
TZNAME:PDT
DTSTART:20200308T100000
END:DAYLIGHT
BEGIN:STANDARD
TZOFFSETFROM:-0700
TZOFFSETTO:-0800
TZNAME:PST
DTSTART:20201101T090000
END:STANDARD
BEGIN:DAYLIGHT
TZOFFSETFROM:-0800
TZOFFSETTO:-0700
TZNAME:PDT
DTSTART:20210314T100000
END:DAYLIGHT
BEGIN:STANDARD
TZOFFSETFROM:-0700
TZOFFSETTO:-0800
TZNAME:PST
DTSTART:20211107T090000
END:STANDARD
BEGIN:DAYLIGHT
TZOFFSETFROM:-0800
TZOFFSETTO:-0700
TZNAME:PDT
DTSTART:20220313T100000
END:DAYLIGHT
BEGIN:STANDARD
TZOFFSETFROM:-0700
TZOFFSETTO:-0800
TZNAME:PST
DTSTART:20221106T090000
END:STANDARD
END:VTIMEZONE
BEGIN:VEVENT
DTSTART;TZID=America/Los_Angeles:20211103T080000
DTEND;TZID=America/Los_Angeles:20211103T170000
DTSTAMP:20260424T085054
CREATED:20201216T200524Z
LAST-MODIFIED:20201216T200754Z
UID:10004805-1635926400-1635958800@sbcfire.org
SUMMARY:Food Give Away- SB
DESCRIPTION:
URL:https://sbcfire.org/event/food-give-away-sb/2021-11-03/
LOCATION:CA
CATEGORIES:DDC
END:VEVENT
BEGIN:VEVENT
DTSTART;TZID=America/Los_Angeles:20211106T090000
DTEND;TZID=America/Los_Angeles:20211106T130000
DTSTAMP:20260424T085054
CREATED:20210831T180158Z
LAST-MODIFIED:20210831T180158Z
UID:10005381-1636189200-1636203600@sbcfire.org
SUMMARY:Phelan Household Hazardous Waste Collection
DESCRIPTION:Join the #SBCoFD Household Hazardous Waste(HHW) team on 11/6/21 from 9 AM to 1PM at the CR&R Yard\, 9828 Buckwheat Rd. in Phelan!\nDrop off HHW items such as antifreeze\, electronics\, batteries\, oil\, oil filters\, cosmetics\, pesticides\, and much more!\n\nTransport no more than 15 gallons or 125 lbs in containers larger than 5 gallons with lids. Containers must be sound and not leaking.\nNo business waste\, tires\, yard waste\, asbestos\, & solid waste will be accepted.\nPlease have all waste in the back of the vehicle. (Except sharps/needles should be with driver)\nAvailable only to San Bernardino County Residents. Proof of residency required.\n\nIf you are experiencing any COVID-19 related symptoms\, please come back after 14 days to one of our permanent collection sites.\nCall 1-800-Oily Cat(645-9228) to learn about all the ways you can help keep our county clean with our #SBCoFDHHW programs
URL:https://sbcfire.org/event/phelan-household-hazardous-waste-collection/
LOCATION:CR&R Phelan Yard\, 9828 Buckwheat Road\, Phelan\, CA\, 92371\, United States
CATEGORIES:Household Hazardous Waste
ATTACH;FMTTYPE=image/jpeg:https://sbcfire.org/wp-content/uploads/sites/46/2021/08/47841-Phelan-11.6.21-HHW-Collection_Page_1-scaled.jpg
END:VEVENT
BEGIN:VEVENT
DTSTART;TZID=America/Los_Angeles:20211106T090000
DTEND;TZID=America/Los_Angeles:20211106T140000
DTSTAMP:20260424T085054
CREATED:20210727T181121Z
LAST-MODIFIED:20210727T181121Z
UID:10005360-1636189200-1636207200@sbcfire.org
SUMMARY:Colton Used Oil Filter Exchange & Recycling Event
DESCRIPTION:Join the Household Hazardous Waste team on Saturday\, November 6\, 2021 from 9 AM to 2 PM at O’Reilly Auto Parts\, 1100 N. Pepper Ave. in Colton!\n\nBring your Used Oil and Oil Filters to Recycle and Exchange for up to a $15 oil filter voucher! (max 1 voucher per household) 1 used oil filter= 1 filter voucher\n\nSan Bernardino County residents can receive free funnels\, oil containers and other oil recycling items! (limited quantities)\n\nOnly San Bernardino County residents. (proof of county residency required)\n\nCome learn about other San Bernardino County Fire Household Hazardous Programs to help keep our community clean!
URL:https://sbcfire.org/event/colton-used-oil-filter-exchange-recycling-event/
LOCATION:O’Reilly Auto Parts – Colton\, 1100 N Pepper Ave\, Colton\, CA\, 92324\, United States
CATEGORIES:Household Hazardous Waste
ATTACH;FMTTYPE=image/jpeg:https://sbcfire.org/wp-content/uploads/sites/46/2021/07/OFE-widescreen-image.jpg
END:VEVENT
BEGIN:VEVENT
DTSTART;TZID=America/Los_Angeles:20211110T080000
DTEND;TZID=America/Los_Angeles:20211110T170000
DTSTAMP:20260424T085054
CREATED:20201216T200524Z
LAST-MODIFIED:20201216T200754Z
UID:10004808-1636531200-1636563600@sbcfire.org
SUMMARY:Food Give Away- SB
DESCRIPTION:
URL:https://sbcfire.org/event/food-give-away-sb/2021-11-10/
LOCATION:CA
CATEGORIES:DDC
END:VEVENT
BEGIN:VEVENT
DTSTART;TZID=America/Los_Angeles:20211113T090000
DTEND;TZID=America/Los_Angeles:20211113T140000
DTSTAMP:20260424T085054
CREATED:20210707T225329Z
LAST-MODIFIED:20210830T183421Z
UID:10005282-1636794000-1636812000@sbcfire.org
SUMMARY:Phelan Used Oil Filter Exchange & Recycling Event
DESCRIPTION:Join the #SBCoFD Household Hazardous Waste team on Saturday\, November 13 \, 2021 from 9 AM to 2 PM at AutoZone\, 4071\, Phelan\, CA 92371 \nBring your Used Oil and Oil Filters to Recycle and Exchange for up to a $15 oil filter voucher! (max 1 voucher per household) 1 used oil filter= 1 filter voucher \nSan Bernardino County residents can receive free funnels\, oil containers and other oil recycling items! (limited quantities) \nOnly San Bernardino County residents. (proof of county residency required) \nCome learn about other San Bernardino County Fire Household Hazardous Programs to help keep our community clean! \nTo be informed of future oil events\, join our mailing list here\n—-> https://bit.ly/3pSqCEy
URL:https://sbcfire.org/event/phelan-used-oil-filter-exchange-event/
LOCATION:AutoZone Phelan\, 4071 Phelan Road\, Phelan\, CA\, 92371\, United States
CATEGORIES:Household Hazardous Waste
ATTACH;FMTTYPE=image/jpeg:https://sbcfire.org/wp-content/uploads/sites/46/2021/06/20210731-hhw.jpg
END:VEVENT
BEGIN:VEVENT
DTSTART;TZID=America/Los_Angeles:20211117T080000
DTEND;TZID=America/Los_Angeles:20211117T170000
DTSTAMP:20260424T085054
CREATED:20201216T200524Z
LAST-MODIFIED:20201216T200754Z
UID:10004811-1637136000-1637168400@sbcfire.org
SUMMARY:Food Give Away- SB
DESCRIPTION:
URL:https://sbcfire.org/event/food-give-away-sb/2021-11-17/
LOCATION:CA
CATEGORIES:DDC
END:VEVENT
BEGIN:VEVENT
DTSTART;TZID=America/Los_Angeles:20211124T080000
DTEND;TZID=America/Los_Angeles:20211124T170000
DTSTAMP:20260424T085054
CREATED:20201216T200524Z
LAST-MODIFIED:20201216T200754Z
UID:10004814-1637740800-1637773200@sbcfire.org
SUMMARY:Food Give Away- SB
DESCRIPTION:
URL:https://sbcfire.org/event/food-give-away-sb/2021-11-24/
LOCATION:CA
CATEGORIES:DDC
END:VEVENT
BEGIN:VEVENT
DTSTART;TZID=America/Los_Angeles:20211127T090000
DTEND;TZID=America/Los_Angeles:20211127T150000
DTSTAMP:20260424T085054
CREATED:20211124T194847Z
LAST-MODIFIED:20211124T231136Z
UID:10004442-1638003600-1638025200@sbcfire.org
SUMMARY:Spark of Love: Upland
DESCRIPTION:#SBCoFD is once again participating in the ABC7 Spark of Love Toy Drive. \nBring an unwrapped toy to help a child in need. You may bring a cash or toy donation. \nThe campaign collects new\, unwrapped toys and sports equipment for under served children and teens in Los Angeles\, San Bernardino\, Orange\, Ventura and Riverside counties. Toys collected in the respective counties are distributed locally. \nThis nationwide program is celebrating over 70 years of collecting and distributing toys. With firefighters and Marines standing side by side\, we believe this will be the biggest Spark of Love yet.
URL:https://sbcfire.org/event/20211127-sol-upland/
LOCATION:The Colonies Crossroads\, 1931 N Campus Ave\, Upland\, CA\, 91784\, United States
CATEGORIES:Spark of Love
ATTACH;FMTTYPE=image/jpeg:https://sbcfire.org/wp-content/uploads/sites/46/2021/11/11.27.21-SoL-1920x1080-1.jpg
END:VEVENT
END:VCALENDAR