BEGIN:VCALENDAR
VERSION:2.0
PRODID:-//San Bernardino County Fire Protection District - ECPv6.15.14//NONSGML v1.0//EN
CALSCALE:GREGORIAN
METHOD:PUBLISH
X-WR-CALNAME:San Bernardino County Fire Protection District
X-ORIGINAL-URL:https://sbcfire.org
X-WR-CALDESC:Events for San Bernardino County Fire Protection District
REFRESH-INTERVAL;VALUE=DURATION:PT1H
X-Robots-Tag:noindex
X-PUBLISHED-TTL:PT1H
BEGIN:VTIMEZONE
TZID:America/Los_Angeles
BEGIN:DAYLIGHT
TZOFFSETFROM:-0800
TZOFFSETTO:-0700
TZNAME:PDT
DTSTART:20200308T100000
END:DAYLIGHT
BEGIN:STANDARD
TZOFFSETFROM:-0700
TZOFFSETTO:-0800
TZNAME:PST
DTSTART:20201101T090000
END:STANDARD
BEGIN:DAYLIGHT
TZOFFSETFROM:-0800
TZOFFSETTO:-0700
TZNAME:PDT
DTSTART:20210314T100000
END:DAYLIGHT
BEGIN:STANDARD
TZOFFSETFROM:-0700
TZOFFSETTO:-0800
TZNAME:PST
DTSTART:20211107T090000
END:STANDARD
BEGIN:DAYLIGHT
TZOFFSETFROM:-0800
TZOFFSETTO:-0700
TZNAME:PDT
DTSTART:20220313T100000
END:DAYLIGHT
BEGIN:STANDARD
TZOFFSETFROM:-0700
TZOFFSETTO:-0800
TZNAME:PST
DTSTART:20221106T090000
END:STANDARD
END:VTIMEZONE
BEGIN:VEVENT
DTSTART;TZID=America/Los_Angeles:20210602T080000
DTEND;TZID=America/Los_Angeles:20210602T170000
DTSTAMP:20260424T192316
CREATED:20201216T200524Z
LAST-MODIFIED:20201216T200754Z
UID:10004739-1622620800-1622653200@sbcfire.org
SUMMARY:Food Give Away- SB
DESCRIPTION:
URL:https://sbcfire.org/event/food-give-away-sb/2021-06-02/
LOCATION:CA
CATEGORIES:DDC
END:VEVENT
BEGIN:VEVENT
DTSTART;TZID=America/Los_Angeles:20210609T080000
DTEND;TZID=America/Los_Angeles:20210609T170000
DTSTAMP:20260424T192316
CREATED:20201216T200524Z
LAST-MODIFIED:20201216T200754Z
UID:10004742-1623225600-1623258000@sbcfire.org
SUMMARY:Food Give Away- SB
DESCRIPTION:
URL:https://sbcfire.org/event/food-give-away-sb/2021-06-09/
LOCATION:CA
CATEGORIES:DDC
END:VEVENT
BEGIN:VEVENT
DTSTART;TZID=America/Los_Angeles:20210612T090000
DTEND;TZID=America/Los_Angeles:20210612T140000
DTSTAMP:20260424T192316
CREATED:20210423T212931Z
LAST-MODIFIED:20210423T213002Z
UID:10005237-1623488400-1623506400@sbcfire.org
SUMMARY:Redlands Used Oil Filter Exchange Event
DESCRIPTION:Join the #SBCoFD Household Hazardous Waste team on Saturday\, June 12 from 9 AM to 2 PM at O’Reilly Auto Parts\, 515 North Orange St.\, Redlands\, CA. \n\nBring your Used Oil Filters to Recycle and Exchange for up to a $15 oil filter voucher! (max 2 vouchers per household)\nMasks are required.\nOnly San Bernardino County residents. (proof of county residency required)\nCity of Fontana Residents need to call 909-350-6789 for their own oil event.\nFor more information\, call 1-800-Oily Cat(645-9228) or visit Greensb.net.
URL:https://sbcfire.org/event/hhw-redlands-20210612/
LOCATION:O’Reilly Auto Parts (Redlands)\, 515 N. Orange St\, Redlands\,\, CA\, 92373\, United States
CATEGORIES:Household Hazardous Waste
END:VEVENT
BEGIN:VEVENT
DTSTART;TZID=America/Los_Angeles:20210616T080000
DTEND;TZID=America/Los_Angeles:20210616T170000
DTSTAMP:20260424T192316
CREATED:20201216T200524Z
LAST-MODIFIED:20201216T200754Z
UID:10004745-1623830400-1623862800@sbcfire.org
SUMMARY:Food Give Away- SB
DESCRIPTION:
URL:https://sbcfire.org/event/food-give-away-sb/2021-06-16/
LOCATION:CA
CATEGORIES:DDC
END:VEVENT
BEGIN:VEVENT
DTSTART;TZID=America/Los_Angeles:20210619T090000
DTEND;TZID=America/Los_Angeles:20210619T150000
DTSTAMP:20260424T192316
CREATED:20210618T225642Z
LAST-MODIFIED:20210618T225700Z
UID:10005243-1624093200-1624114800@sbcfire.org
SUMMARY:Community Chipping - Green Valley Lake
DESCRIPTION:Residents are invited to bring cut brush and branches\, limbs up to 15″ in diameter and 10′ in length. \nLimbs and brush only. Leaves and pine needles cannot be chipped. \nChipping and Chips are available at no charge. \nFor more info call (909) 336-7086
URL:https://sbcfire.org/event/20210619-chipping/
LOCATION:CA
ATTACH;FMTTYPE=image/jpeg:https://sbcfire.org/wp-content/uploads/sites/46/2021/06/20210619_chipping.jpg
END:VEVENT
BEGIN:VEVENT
DTSTART;TZID=America/Los_Angeles:20210620T090000
DTEND;TZID=America/Los_Angeles:20210620T150000
DTSTAMP:20260424T192316
CREATED:20210618T231038Z
LAST-MODIFIED:20210618T231302Z
UID:10005246-1624179600-1624201200@sbcfire.org
SUMMARY:Community Chipping - Fawnskin
DESCRIPTION:Residents are invited to bring cut brush and branches\, limbs up to 15″ in diameter and 10′ in length. Limbs and brush only. Leaves and pine needles cannot be chipped. \nChipping and Chips are available at no charge. \nFor more info call (909) 336-7086
URL:https://sbcfire.org/event/community-chipping-fawnskin/
LOCATION:Fire Station 96\, 39188 Rim of the World Dr\, Fawnskin\, CA\, 92333\, United States
ATTACH;FMTTYPE=image/jpeg:https://sbcfire.org/wp-content/uploads/sites/46/2021/06/20210619_chipping.jpg
END:VEVENT
BEGIN:VEVENT
DTSTART;TZID=America/Los_Angeles:20210623T080000
DTEND;TZID=America/Los_Angeles:20210623T170000
DTSTAMP:20260424T192316
CREATED:20201216T200524Z
LAST-MODIFIED:20201216T200754Z
UID:10004748-1624435200-1624467600@sbcfire.org
SUMMARY:Food Give Away- SB
DESCRIPTION:
URL:https://sbcfire.org/event/food-give-away-sb/2021-06-23/
LOCATION:CA
CATEGORIES:DDC
END:VEVENT
BEGIN:VEVENT
DTSTART;TZID=America/Los_Angeles:20210626T210000
DTEND;TZID=America/Los_Angeles:20210626T213000
DTSTAMP:20260424T192316
CREATED:20210624T223516Z
LAST-MODIFIED:20210624T223622Z
UID:10005252-1624741200-1624743000@sbcfire.org
SUMMARY:Spring Valley Lake: Independence Day Celebration
DESCRIPTION:Come out and celebrate Independence Day with a live firework extravaganza on the lake!
URL:https://sbcfire.org/event/20210626-springvalleylake-fireworks/
LOCATION:Spring Valley Lake Country Club\, 13229 Spring Valley Parkway\, Victorville\, CA\, 92395\, United States
CATEGORIES:Firework Shows
ATTACH;FMTTYPE=image/jpeg:https://sbcfire.org/wp-content/uploads/sites/46/2021/06/06.24.21-Fireworks-Shows-1920x1080-1.jpg
END:VEVENT
BEGIN:VEVENT
DTSTART;TZID=America/Los_Angeles:20210630T080000
DTEND;TZID=America/Los_Angeles:20210630T170000
DTSTAMP:20260424T192316
CREATED:20201216T200524Z
LAST-MODIFIED:20201216T200754Z
UID:10004751-1625040000-1625072400@sbcfire.org
SUMMARY:Food Give Away- SB
DESCRIPTION:
URL:https://sbcfire.org/event/food-give-away-sb/2021-06-30/
LOCATION:CA
CATEGORIES:DDC
END:VEVENT
END:VCALENDAR