BEGIN:VCALENDAR
VERSION:2.0
PRODID:-//San Bernardino County Fire Protection District - ECPv6.15.14//NONSGML v1.0//EN
CALSCALE:GREGORIAN
METHOD:PUBLISH
X-ORIGINAL-URL:https://sbcfire.org
X-WR-CALDESC:Events for San Bernardino County Fire Protection District
REFRESH-INTERVAL;VALUE=DURATION:PT1H
X-Robots-Tag:noindex
X-PUBLISHED-TTL:PT1H
BEGIN:VTIMEZONE
TZID:UTC
BEGIN:STANDARD
TZOFFSETFROM:+0000
TZOFFSETTO:+0000
TZNAME:UTC
DTSTART:20190101T000000
END:STANDARD
END:VTIMEZONE
BEGIN:VEVENT
DTSTART;TZID=UTC:20201107T080000
DTEND;TZID=UTC:20201107T120000
DTSTAMP:20260425T092253
CREATED:20200929T054737Z
LAST-MODIFIED:20201028T050701Z
UID:10004646-1604736000-1604750400@sbcfire.org
SUMMARY:Helendale Household Hazardous Waste Collection
DESCRIPTION:
URL:https://sbcfire.org/event/helendale-household-hazardous-waste-collection/
LOCATION:CA
CATEGORIES:Household Hazardous Waste
ATTACH;FMTTYPE=image/jpeg:https://sbcfire.org/wp-content/uploads/sites/46/2020/09/hwevent.jpg
END:VEVENT
BEGIN:VEVENT
DTSTART;TZID=UTC:20201107T080000
DTEND;TZID=UTC:20201107T120000
DTSTAMP:20260425T092253
CREATED:20200929T054820Z
LAST-MODIFIED:20201028T050719Z
UID:10004652-1604736000-1604750400@sbcfire.org
SUMMARY:Colton Used Oil Filter Exchange Event
DESCRIPTION:
URL:https://sbcfire.org/event/colton-used-oil-filter-exchange-event/
LOCATION:CA
CATEGORIES:Household Hazardous Waste
ATTACH;FMTTYPE=image/jpeg:https://sbcfire.org/wp-content/uploads/sites/46/2020/09/ColtonEvent.jpg
END:VEVENT
END:VCALENDAR