BEGIN:VCALENDAR
VERSION:2.0
PRODID:-//San Bernardino County Fire Protection District - ECPv6.15.14//NONSGML v1.0//EN
CALSCALE:GREGORIAN
METHOD:PUBLISH
X-WR-CALNAME:San Bernardino County Fire Protection District
X-ORIGINAL-URL:https://sbcfire.org
X-WR-CALDESC:Events for San Bernardino County Fire Protection District
REFRESH-INTERVAL;VALUE=DURATION:PT1H
X-Robots-Tag:noindex
X-PUBLISHED-TTL:PT1H
BEGIN:VTIMEZONE
TZID:America/Los_Angeles
BEGIN:DAYLIGHT
TZOFFSETFROM:-0800
TZOFFSETTO:-0700
TZNAME:PDT
DTSTART:20240310T100000
END:DAYLIGHT
BEGIN:STANDARD
TZOFFSETFROM:-0700
TZOFFSETTO:-0800
TZNAME:PST
DTSTART:20241103T090000
END:STANDARD
BEGIN:DAYLIGHT
TZOFFSETFROM:-0800
TZOFFSETTO:-0700
TZNAME:PDT
DTSTART:20250309T100000
END:DAYLIGHT
BEGIN:STANDARD
TZOFFSETFROM:-0700
TZOFFSETTO:-0800
TZNAME:PST
DTSTART:20251102T090000
END:STANDARD
BEGIN:DAYLIGHT
TZOFFSETFROM:-0800
TZOFFSETTO:-0700
TZNAME:PDT
DTSTART:20260308T100000
END:DAYLIGHT
BEGIN:STANDARD
TZOFFSETFROM:-0700
TZOFFSETTO:-0800
TZNAME:PST
DTSTART:20261101T090000
END:STANDARD
END:VTIMEZONE
BEGIN:VEVENT
DTSTART;TZID=America/Los_Angeles:20250503T090000
DTEND;TZID=America/Los_Angeles:20250503T130000
DTSTAMP:20260420T070413
CREATED:20250418T212613Z
LAST-MODIFIED:20250418T213326Z
UID:10020923-1746262800-1746277200@sbcfire.org
SUMMARY:Community Chipping - Mountain Home Village
DESCRIPTION:The San Bernardino County Fire Protection District (#SBCoFD)\, in cooperation with the San Bernardino County Public Works\, Mountain Rim Fire Safe Council\, Wrightwood Fire Safe Council are offering wood chipping throughout the mountain communities prior to the summer and fall\, when the threat of wildfire is elevated. In an effort to bolster safety in these areas\, these agencies will assist residents in maintaining wildfire safety in their communities. \nResidents are invited to bring cut brush and branches\, limbs up to 15″ in diameter and 10′ in length. Limbs and brush only. Leaves and pine needles cannot be chipped. Chipping is available at no charge. \n#SBCoFD encourages residents to get prepared for wildfire weather. For safety tips\, including creating your Ready! Set! Go! Personal Wildfire Action Plan\, visit https://sbcfire.co/ReadySetGoFire \nFor more info call (909) 336-7086.
URL:https://sbcfire.org/event/community-chipping-mountain-home-village/
LOCATION:Mountain Home Village\, Mountain Home Village\, 92359\, United States
CATEGORIES:Wood Chipping
ATTACH;FMTTYPE=image/png:https://sbcfire.org/wp-content/uploads/sites/46/Chipping-Dates-Facebook-Cover-1.png
END:VEVENT
BEGIN:VEVENT
DTSTART;TZID=America/Los_Angeles:20250504T090000
DTEND;TZID=America/Los_Angeles:20250504T140000
DTSTAMP:20260420T070413
CREATED:20250418T212928Z
LAST-MODIFIED:20250418T214249Z
UID:10020929-1746349200-1746367200@sbcfire.org
SUMMARY:Community Chipping - Angelus Oaks
DESCRIPTION:The San Bernardino County Fire Protection District (#SBCoFD)\, in cooperation with the San Bernardino County Public Works\, Mountain Rim Fire Safe Council\, Wrightwood Fire Safe Council are offering wood chipping throughout the mountain communities prior to the summer and fall\, when the threat of wildfire is elevated. In an effort to bolster safety in these areas\, these agencies will assist residents in maintaining wildfire safety in their communities. \nResidents are invited to bring cut brush and branches\, limbs up to 15″ in diameter and 10′ in length. Limbs and brush only. Leaves and pine needles cannot be chipped. Chipping is available at no charge. \n#SBCoFD encourages residents to get prepared for wildfire weather. For safety tips\, including creating your Ready! Set! Go! Personal Wildfire Action Plan\, visit https://sbcfire.co/ReadySetGoFire \nFor more info call (909) 336-7086.
URL:https://sbcfire.org/event/community-chipping-angelus-oaks/
LOCATION:Angelus Oaks\, Angelus Oaks\, CA\, 92305\, United States
CATEGORIES:Wood Chipping
ATTACH;FMTTYPE=image/png:https://sbcfire.org/wp-content/uploads/sites/46/Chipping-Dates-Facebook-Cover-1.png
END:VEVENT
BEGIN:VEVENT
DTSTART;TZID=America/Los_Angeles:20250510T090000
DTEND;TZID=America/Los_Angeles:20250510T140000
DTSTAMP:20260420T070413
CREATED:20250418T213937Z
LAST-MODIFIED:20250418T214230Z
UID:10020932-1746867600-1746885600@sbcfire.org
SUMMARY:Community Chipping - Forest Falls
DESCRIPTION:The San Bernardino County Fire Protection District (#SBCoFD)\, in cooperation with the San Bernardino County Public Works\, Mountain Rim Fire Safe Council\, Wrightwood Fire Safe Council are offering wood chipping throughout the mountain communities prior to the summer and fall\, when the threat of wildfire is elevated. In an effort to bolster safety in these areas\, these agencies will assist residents in maintaining wildfire safety in their communities. \nResidents are invited to bring cut brush and branches\, limbs up to 15″ in diameter and 10′ in length. Limbs and brush only. Leaves and pine needles cannot be chipped. Chipping is available at no charge. \n#SBCoFD encourages residents to get prepared for wildfire weather. For safety tips\, including creating your Ready! Set! Go! Personal Wildfire Action Plan\, visit https://sbcfire.co/ReadySetGoFire \nFor more info call (909) 336-7086.
URL:https://sbcfire.org/event/community-chipping-forest-falls-2/
LOCATION:Forest Falls (Chipping)\, 39581 Canyon Dr.\, Forest Falls\, 92339\, United States
CATEGORIES:Wood Chipping
ATTACH;FMTTYPE=image/png:https://sbcfire.org/wp-content/uploads/sites/46/Chipping-Dates-Facebook-Cover-1.png
END:VEVENT
BEGIN:VEVENT
DTSTART;TZID=America/Los_Angeles:20250511T090000
DTEND;TZID=America/Los_Angeles:20250511T140000
DTSTAMP:20260420T070413
CREATED:20250418T214053Z
LAST-MODIFIED:20250418T214155Z
UID:10020935-1746954000-1746972000@sbcfire.org
SUMMARY:Community Chipping - Forest Falls
DESCRIPTION:The San Bernardino County Fire Protection District (#SBCoFD)\, in cooperation with the San Bernardino County Public Works\, Mountain Rim Fire Safe Council\, Wrightwood Fire Safe Council are offering wood chipping throughout the mountain communities prior to the summer and fall\, when the threat of wildfire is elevated. In an effort to bolster safety in these areas\, these agencies will assist residents in maintaining wildfire safety in their communities. \nResidents are invited to bring cut brush and branches\, limbs up to 15″ in diameter and 10′ in length. Limbs and brush only. Leaves and pine needles cannot be chipped. Chipping is available at no charge. \n#SBCoFD encourages residents to get prepared for wildfire weather. For safety tips\, including creating your Ready! Set! Go! Personal Wildfire Action Plan\, visit https://sbcfire.co/ReadySetGoFire \nFor more info call (909) 336-7086.
URL:https://sbcfire.org/event/community-chipping-forest-falls-3/
LOCATION:Forest Falls (Chipping)\, 39581 Canyon Dr.\, Forest Falls\, 92339\, United States
CATEGORIES:Wood Chipping
ATTACH;FMTTYPE=image/png:https://sbcfire.org/wp-content/uploads/sites/46/Chipping-Dates-Facebook-Cover-1.png
END:VEVENT
BEGIN:VEVENT
DTSTART;TZID=America/Los_Angeles:20250517T090000
DTEND;TZID=America/Los_Angeles:20250517T140000
DTSTAMP:20260420T070413
CREATED:20250421T150140Z
LAST-MODIFIED:20250421T150216Z
UID:10026731-1747472400-1747490400@sbcfire.org
SUMMARY:Community Chipping - Lake Arrowhead
DESCRIPTION:The San Bernardino County Fire Protection District (#SBCoFD)\, in cooperation with the San Bernardino County Public Works\, Mountain Rim Fire Safe Council\, Wrightwood Fire Safe Council are offering wood chipping throughout the mountain communities prior to the summer and fall\, when the threat of wildfire is elevated. In an effort to bolster safety in these areas\, these agencies will assist residents in maintaining wildfire safety in their communities. \nResidents are invited to bring cut brush and branches\, limbs up to 15″ in diameter and 10′ in length. Limbs and brush only. Leaves and pine needles cannot be chipped. Chipping is available at no charge. \n#SBCoFD encourages residents to get prepared for wildfire weather. For safety tips\, including creating your Ready! Set! Go! Personal Wildfire Action Plan\, visit https://sbcfire.co/ReadySetGoFire \nFor more info call (909) 336-7086.
URL:https://sbcfire.org/event/community-chipping-lake-arrowhead/
LOCATION:Lake Arrowhead (Chipping)\, 28104 Rim of the World HWY\, Lake Arrowhead\, CA\, 92352\, United States
CATEGORIES:Wood Chipping
ATTACH;FMTTYPE=image/png:https://sbcfire.org/wp-content/uploads/sites/46/Chipping-Dates-Facebook-Cover-1.png
END:VEVENT
BEGIN:VEVENT
DTSTART;TZID=America/Los_Angeles:20250518T090000
DTEND;TZID=America/Los_Angeles:20250518T140000
DTSTAMP:20260420T070413
CREATED:20250421T150338Z
LAST-MODIFIED:20250421T150338Z
UID:10026734-1747558800-1747576800@sbcfire.org
SUMMARY:Community Chipping - Lake Arrowhead
DESCRIPTION:The San Bernardino County Fire Protection District (#SBCoFD)\, in cooperation with the San Bernardino County Public Works\, Mountain Rim Fire Safe Council\, Wrightwood Fire Safe Council are offering wood chipping throughout the mountain communities prior to the summer and fall\, when the threat of wildfire is elevated. In an effort to bolster safety in these areas\, these agencies will assist residents in maintaining wildfire safety in their communities. \nResidents are invited to bring cut brush and branches\, limbs up to 15″ in diameter and 10′ in length. Limbs and brush only. Leaves and pine needles cannot be chipped. Chipping is available at no charge. \n#SBCoFD encourages residents to get prepared for wildfire weather. For safety tips\, including creating your Ready! Set! Go! Personal Wildfire Action Plan\, visit https://sbcfire.co/ReadySetGoFire \nFor more info call (909) 336-7086.
URL:https://sbcfire.org/event/community-chipping-lake-arrowhead-2/
LOCATION:Lake Arrowhead (Chipping)\, 28104 Rim of the World HWY\, Lake Arrowhead\, CA\, 92352\, United States
CATEGORIES:Wood Chipping
ATTACH;FMTTYPE=image/png:https://sbcfire.org/wp-content/uploads/sites/46/Chipping-Dates-Facebook-Cover-1.png
END:VEVENT
BEGIN:VEVENT
DTSTART;TZID=America/Los_Angeles:20250524T090000
DTEND;TZID=America/Los_Angeles:20250524T140000
DTSTAMP:20260420T070413
CREATED:20250421T150858Z
LAST-MODIFIED:20250421T150923Z
UID:10026737-1748077200-1748095200@sbcfire.org
SUMMARY:Community Chipping - Crestline/Lake Gregory
DESCRIPTION:The San Bernardino County Fire Protection District (#SBCoFD)\, in cooperation with the San Bernardino County Public Works\, Mountain Rim Fire Safe Council\, Wrightwood Fire Safe Council are offering wood chipping throughout the mountain communities prior to the summer and fall\, when the threat of wildfire is elevated. In an effort to bolster safety in these areas\, these agencies will assist residents in maintaining wildfire safety in their communities. \nResidents are invited to bring cut brush and branches\, limbs up to 15″ in diameter and 10′ in length. Limbs and brush only. Leaves and pine needles cannot be chipped. Chipping is available at no charge. \n#SBCoFD encourages residents to get prepared for wildfire weather. For safety tips\, including creating your Ready! Set! Go! Personal Wildfire Action Plan\, visit https://sbcfire.co/ReadySetGoFire \nFor more info call (909) 336-7086.
URL:https://sbcfire.org/event/community-chipping-crestline-lake-gregory-2/
LOCATION:Cresline/Lake Arrowhead (Chipping)\, 24640 San Moritz Dr.\, Crestline\, 92325\, United States
CATEGORIES:Wood Chipping
ATTACH;FMTTYPE=image/png:https://sbcfire.org/wp-content/uploads/sites/46/Chipping-Dates-Facebook-Cover-1.png
END:VEVENT
BEGIN:VEVENT
DTSTART;TZID=America/Los_Angeles:20250525T090000
DTEND;TZID=America/Los_Angeles:20250525T140000
DTSTAMP:20260420T070413
CREATED:20250421T151144Z
LAST-MODIFIED:20250421T151144Z
UID:10026740-1748163600-1748181600@sbcfire.org
SUMMARY:Community Chipping - Twin Peaks
DESCRIPTION:The San Bernardino County Fire Protection District (#SBCoFD)\, in cooperation with the San Bernardino County Public Works\, Mountain Rim Fire Safe Council\, Wrightwood Fire Safe Council are offering wood chipping throughout the mountain communities prior to the summer and fall\, when the threat of wildfire is elevated. In an effort to bolster safety in these areas\, these agencies will assist residents in maintaining wildfire safety in their communities. \nResidents are invited to bring cut brush and branches\, limbs up to 15″ in diameter and 10′ in length. Limbs and brush only. Leaves and pine needles cannot be chipped. Chipping is available at no charge. \n#SBCoFD encourages residents to get prepared for wildfire weather. For safety tips\, including creating your Ready! Set! Go! Personal Wildfire Action Plan\, visit https://sbcfire.co/ReadySetGoFire \nFor more info call (909) 336-7086.
URL:https://sbcfire.org/event/community-chipping-twin-peaks-2/
LOCATION:Twin Peaks (Chipping)\, 26010 Highway 189\, Twin Peaks\, CA\, 92391\, United States
CATEGORIES:Wood Chipping
ATTACH;FMTTYPE=image/png:https://sbcfire.org/wp-content/uploads/sites/46/Chipping-Dates-Facebook-Cover-1.png
END:VEVENT
BEGIN:VEVENT
DTSTART;TZID=America/Los_Angeles:20250530T090000
DTEND;TZID=America/Los_Angeles:20250530T140000
DTSTAMP:20260420T070413
CREATED:20250421T152831Z
LAST-MODIFIED:20250421T152831Z
UID:10026743-1748595600-1748613600@sbcfire.org
SUMMARY:Community Chipping - Wrightwood
DESCRIPTION:The San Bernardino County Fire Protection District (#SBCoFD)\, in cooperation with the San Bernardino County Public Works\, Mountain Rim Fire Safe Council\, Wrightwood Fire Safe Council are offering wood chipping throughout the mountain communities prior to the summer and fall\, when the threat of wildfire is elevated. In an effort to bolster safety in these areas\, these agencies will assist residents in maintaining wildfire safety in their communities. \nResidents are invited to bring cut brush and branches\, limbs up to 15″ in diameter and 10′ in length. Limbs and brush only. Leaves and pine needles cannot be chipped. Chipping is available at no charge. \n#SBCoFD encourages residents to get prepared for wildfire weather. For safety tips\, including creating your Ready! Set! Go! Personal Wildfire Action Plan\, visit https://sbcfire.co/ReadySetGoFire \nFor more info call (909) 336-7086.
URL:https://sbcfire.org/event/community-chipping-wrightwood-2/
LOCATION:Wrightwood (Chipping)\, 1500 Hwy 2\, Wrightwood\, CA\, 92397\, United States
CATEGORIES:Wood Chipping
ATTACH;FMTTYPE=image/png:https://sbcfire.org/wp-content/uploads/sites/46/Chipping-Dates-Facebook-Cover-1.png
END:VEVENT
BEGIN:VEVENT
DTSTART;TZID=America/Los_Angeles:20250531T090000
DTEND;TZID=America/Los_Angeles:20250531T140000
DTSTAMP:20260420T070413
CREATED:20250421T152914Z
LAST-MODIFIED:20250421T152914Z
UID:10026746-1748682000-1748700000@sbcfire.org
SUMMARY:Community Chipping - Wrightwood
DESCRIPTION:The San Bernardino County Fire Protection District (#SBCoFD)\, in cooperation with the San Bernardino County Public Works\, Mountain Rim Fire Safe Council\, Wrightwood Fire Safe Council are offering wood chipping throughout the mountain communities prior to the summer and fall\, when the threat of wildfire is elevated. In an effort to bolster safety in these areas\, these agencies will assist residents in maintaining wildfire safety in their communities. \nResidents are invited to bring cut brush and branches\, limbs up to 15″ in diameter and 10′ in length. Limbs and brush only. Leaves and pine needles cannot be chipped. Chipping is available at no charge. \n#SBCoFD encourages residents to get prepared for wildfire weather. For safety tips\, including creating your Ready! Set! Go! Personal Wildfire Action Plan\, visit https://sbcfire.co/ReadySetGoFire \nFor more info call (909) 336-7086.
URL:https://sbcfire.org/event/community-chipping-wrightwood-3/
LOCATION:Wrightwood (Chipping)\, 1500 Hwy 2\, Wrightwood\, CA\, 92397\, United States
CATEGORIES:Wood Chipping
ATTACH;FMTTYPE=image/png:https://sbcfire.org/wp-content/uploads/sites/46/Chipping-Dates-Facebook-Cover-1.png
END:VEVENT
END:VCALENDAR