BEGIN:VCALENDAR
VERSION:2.0
PRODID:-//San Bernardino County Fire Protection District - ECPv6.15.14//NONSGML v1.0//EN
CALSCALE:GREGORIAN
METHOD:PUBLISH
X-ORIGINAL-URL:https://sbcfire.org
X-WR-CALDESC:Events for San Bernardino County Fire Protection District
REFRESH-INTERVAL;VALUE=DURATION:PT1H
X-Robots-Tag:noindex
X-PUBLISHED-TTL:PT1H
BEGIN:VTIMEZONE
TZID:America/Los_Angeles
BEGIN:DAYLIGHT
TZOFFSETFROM:-0800
TZOFFSETTO:-0700
TZNAME:PDT
DTSTART:20200308T100000
END:DAYLIGHT
BEGIN:STANDARD
TZOFFSETFROM:-0700
TZOFFSETTO:-0800
TZNAME:PST
DTSTART:20201101T090000
END:STANDARD
BEGIN:DAYLIGHT
TZOFFSETFROM:-0800
TZOFFSETTO:-0700
TZNAME:PDT
DTSTART:20210314T100000
END:DAYLIGHT
BEGIN:STANDARD
TZOFFSETFROM:-0700
TZOFFSETTO:-0800
TZNAME:PST
DTSTART:20211107T090000
END:STANDARD
BEGIN:DAYLIGHT
TZOFFSETFROM:-0800
TZOFFSETTO:-0700
TZNAME:PDT
DTSTART:20220313T100000
END:DAYLIGHT
BEGIN:STANDARD
TZOFFSETFROM:-0700
TZOFFSETTO:-0800
TZNAME:PST
DTSTART:20221106T090000
END:STANDARD
BEGIN:DAYLIGHT
TZOFFSETFROM:-0800
TZOFFSETTO:-0700
TZNAME:PDT
DTSTART:20230312T100000
END:DAYLIGHT
BEGIN:STANDARD
TZOFFSETFROM:-0700
TZOFFSETTO:-0800
TZNAME:PST
DTSTART:20231105T090000
END:STANDARD
BEGIN:DAYLIGHT
TZOFFSETFROM:-0800
TZOFFSETTO:-0700
TZNAME:PDT
DTSTART:20240310T100000
END:DAYLIGHT
BEGIN:STANDARD
TZOFFSETFROM:-0700
TZOFFSETTO:-0800
TZNAME:PST
DTSTART:20241103T090000
END:STANDARD
BEGIN:DAYLIGHT
TZOFFSETFROM:-0800
TZOFFSETTO:-0700
TZNAME:PDT
DTSTART:20250309T100000
END:DAYLIGHT
BEGIN:STANDARD
TZOFFSETFROM:-0700
TZOFFSETTO:-0800
TZNAME:PST
DTSTART:20251102T090000
END:STANDARD
END:VTIMEZONE
BEGIN:VEVENT
DTSTART;TZID=America/Los_Angeles:20240704T180000
DTEND;TZID=America/Los_Angeles:20240704T223000
DTSTAMP:20260421T030756
CREATED:20240702T202153Z
LAST-MODIFIED:20240702T202345Z
UID:10008900-1720116000-1720132200@sbcfire.org
SUMMARY:Yucca Valley: 4th of July Celebration
DESCRIPTION:
URL:https://sbcfire.org/event/yucca-valley-4th-of-july-celebration/
LOCATION:Brehm Park\, 56640 Little League Dr\, Yucca Valley\, CA\, 92284\, United States
CATEGORIES:Firework Shows
ATTACH;FMTTYPE=image/jpeg:https://sbcfire.org/wp-content/uploads/sites/46/2021/06/06.24.21-Fireworks-Shows-1920x1080-1.jpg
END:VEVENT
BEGIN:VEVENT
DTSTART;TZID=America/Los_Angeles:20240704T180000
DTEND;TZID=America/Los_Angeles:20240704T210000
DTSTAMP:20260421T030756
CREATED:20240702T203150Z
LAST-MODIFIED:20240702T203150Z
UID:10008903-1720116000-1720126800@sbcfire.org
SUMMARY:Twentynine Palms: Knotts Sky Park Independence Day Festival
DESCRIPTION:The City of Twentynine Palms is thrilled to announce our annual 4th of July Celebration! Join us on Thursday\, July 4\, from 6 to 9 p.m. at Knott’s Sky Park for an unforgettable evening of family fun and festivities. \nThis year’s celebration\, presented by Rocky’s New York Style Pizzeria\, promises to be a highlight of the summer. Attendees can look forward to an array of activities that cater to all ages. Enjoy mouthwatering food\, exciting games\, face painting by Reach Out Morongo Basin\, exhilarating waterslides\, and an inflatable obstacle course that guarantees fun for everyone. \nAs the evening progresses\, prepare to be dazzled by the grand finale — a spectacular fireworks show from Tortoise Rock Casino. Gather with friends and family for the ultimate viewing party as the night sky is lit up in celebration of Independence Day. \nTo add to the festive atmosphere\, Z107.7FM will be broadcasting live\, playing all your favorite tunes throughout the evening\, ensuring a lively and entertaining environment. \nDon’t miss out on this spectacular event! Bring your friends and family to Knott’s Sky Park and create lasting memories as we celebrate our nation’s independence together. \nFor more information\, please contact the City of Twentynine Palms Parks & Recreation Department at (760) 367-7562. We look forward to celebrating with you!
URL:https://sbcfire.org/event/twentynine-palms-knotts-sky-park-independence-day-festival/
LOCATION:Tortoise Rock Casino\, 73829 Baseline Road\, Twentynine Palms\, CA\, 92277\, United States
CATEGORIES:Firework Shows
ATTACH;FMTTYPE=image/jpeg:https://sbcfire.org/wp-content/uploads/sites/46/2021/06/06.24.21-Fireworks-Shows-1920x1080-1.jpg
END:VEVENT
BEGIN:VEVENT
DTSTART;TZID=America/Los_Angeles:20240704T160000
DTEND;TZID=America/Los_Angeles:20240704T220000
DTSTAMP:20260421T030756
CREATED:20240702T194434Z
LAST-MODIFIED:20240702T194434Z
UID:10008897-1720108800-1720130400@sbcfire.org
SUMMARY:Upland: 2024 Light Up The Night Fireworks Spectacular
DESCRIPTION:Get ready to Light Up the Night with your family and friends on Thursday\, July 4! The City of Upland will sparkle on Independence Day at Cable Airport with Pop Vision Band performing live from the main stage. \nFamilies will be able to enjoy delicious food from a variety of food and snack vendors or shop at one of the many merchandise vendors. Children will be mesmerized by the airplane display\, free crafts and games\, special performances at the Kiddie Stage\, or enjoy a ride on one of the new attractions. \nBuy your tickets early before they sell out and get entered in special prize drawings. See ticket sales and parking details for more information. \nFor tickets and more information\, visit: https://www.uplandca.gov/summer-festivities.
URL:https://sbcfire.org/event/upland-2024-light-up-the-night-fireworks-spectacular/
LOCATION:Cable Airport\, 1749 W. 13th St.\, Upland\, CA\, 91786\, United States
CATEGORIES:Firework Shows
ATTACH;FMTTYPE=image/jpeg:https://sbcfire.org/wp-content/uploads/sites/46/2021/06/06.24.21-Fireworks-Shows-1920x1080-1.jpg
END:VEVENT
BEGIN:VEVENT
DTSTART;TZID=America/Los_Angeles:20220704T183000
DTEND;TZID=America/Los_Angeles:20220704T213000
DTSTAMP:20260421T030756
CREATED:20220629T164407Z
LAST-MODIFIED:20220629T164437Z
UID:10004616-1656959400-1656970200@sbcfire.org
SUMMARY:Yucca Valley: Independence Day Celebration 2022
DESCRIPTION:In Yucca Valley\, the gates open for a 4th of July celebration at Brehm Park at 6:00 p.m.. The event will feature a free concert and spectacular fireworks show. \nThe concert starts at 6:30 and the fireworks start at 9:00. \nZ107.7 radio will broadcast the patriotic music background for both the Twentynine Palms and the Yucca Valley fireworks shows. Wherever you go to enjoy the fireworks in the Morongo Basin tune your radio to Z107.7 FM to enjoy the full show.
URL:https://sbcfire.org/event/yucca-valley-independence-day-celebration-2022/
LOCATION:Brehm Park\, 56640 Little League Dr\, Yucca Valley\, CA\, 92284\, United States
CATEGORIES:Firework Shows
ATTACH;FMTTYPE=image/jpeg:https://sbcfire.org/wp-content/uploads/sites/46/2021/06/06.24.21-Fireworks-Shows-1920x1080-1.jpg
END:VEVENT
BEGIN:VEVENT
DTSTART;TZID=America/Los_Angeles:20220704T180000
DTEND;TZID=America/Los_Angeles:20220704T210000
DTSTAMP:20260421T030756
CREATED:20220627T163449Z
LAST-MODIFIED:20220627T163449Z
UID:10004613-1656957600-1656968400@sbcfire.org
SUMMARY:Fontana: Independence Day Celebration 2022
DESCRIPTION:Celebrate Independence Day with a live firework extravaganza! \nFireworks\, food & novelty vendors and music featuring a live performance by Yachtley Crew.
URL:https://sbcfire.org/event/fontana-independence-day-celebration-2022/
LOCATION:Miller Park Ampitheatre\, 17004 Arrow Blvd.\, Fontana\, CA\, 92335\, United States
CATEGORIES:Firework Shows
ATTACH;FMTTYPE=image/jpeg:https://sbcfire.org/wp-content/uploads/sites/46/2021/06/06.24.21-Fireworks-Shows-1920x1080-1.jpg
END:VEVENT
BEGIN:VEVENT
DTSTART;TZID=America/Los_Angeles:20220704T173000
DTEND;TZID=America/Los_Angeles:20220704T220000
DTSTAMP:20260421T030756
CREATED:20220627T162023Z
LAST-MODIFIED:20220627T162122Z
UID:10004610-1656955800-1656972000@sbcfire.org
SUMMARY:Upland: Independence Day Celebration 2022
DESCRIPTION:Celebrate Independence Day with a live firework extravaganza! \nJoin the City of Upland for our Annual Light Up The Night 4th of July Fireworks Spectacular! Gates will open at 5:30 p.m. with live entertainment from Electric Vinyl\, the Ultimate Rock Tribute Band\, beginning at 7:00 p.m. Enjoy an evening of family\, friends\, food vendors\, Kids’ Zone\, beer garden\, vendors\, and the opportunity to watch planes of all types take off and land. \nFor ticket information visit: https://www.uplandca.gov/4th-of-july-festivities
URL:https://sbcfire.org/event/upland-independence-day-celebration-2022/
LOCATION:Cable Airport\, 1749 W. 13th St.\, Upland\, CA\, 91786\, United States
CATEGORIES:Firework Shows
ATTACH;FMTTYPE=image/jpeg:https://sbcfire.org/wp-content/uploads/sites/46/2021/06/06.24.21-Fireworks-Shows-1920x1080-1.jpg
END:VEVENT
BEGIN:VEVENT
DTSTART;TZID=America/Los_Angeles:20220704T170000
DTEND;TZID=America/Los_Angeles:20220704T210000
DTSTAMP:20260421T030756
CREATED:20220629T164812Z
LAST-MODIFIED:20220629T164812Z
UID:10007481-1656954000-1656968400@sbcfire.org
SUMMARY:Twentynine Palms: Independence Day Celebration 2022
DESCRIPTION:Join the City of Twentynine Palms for their annual 4th of July Celebration on Monday\, July 4\, starting at 5:00 p.m. This year’s festivities will be over at Knott’s Sky Park\, with tons of free family fun! They are pulling out all the stops with waterslides\, an inflatable obstacle course\, face painting\, free throw contest\, cornhole tournament\, Bizuri ice cream\, food\, music by Z107.7FM\, and so much more! The 4th of July Celebration is the perfect summer event for the whole family and your friend group to enjoy. Stick around for the fireworks display that will light up the night sky at 9:00 p.m. from Tortoise Rock Casino. For more information\, contact the Parks & Recreation Department at (760) 367-7562.
URL:https://sbcfire.org/event/twentynine-palms-independence-day-celebration-2022/
LOCATION:CA
CATEGORIES:Firework Shows
ATTACH;FMTTYPE=image/jpeg:https://sbcfire.org/wp-content/uploads/sites/46/2021/06/06.24.21-Fireworks-Shows-1920x1080-1.jpg
END:VEVENT
BEGIN:VEVENT
DTSTART;TZID=America/Los_Angeles:20220704T090000
DTEND;TZID=America/Los_Angeles:20220704T103000
DTSTAMP:20260421T030756
CREATED:20220629T165803Z
LAST-MODIFIED:20220629T165803Z
UID:10007490-1656925200-1656930600@sbcfire.org
SUMMARY:Lucerne Valley: Independence Day Celebration 2022
DESCRIPTION:Lucerne Valley 4th of July Parade is back! Please join and cheer on the hometown parade! \nMany local businesses and groups will be walking the route from Trade Post Road to Cafe 247.  You will get a chance to see your 2022/2023 Honorary Mayor and Grand Marshall! \nAfter the parade\, please join in at Pioneer Park for the awards and trophy ceremony at 11am.
URL:https://sbcfire.org/event/lucerne-valley-independence-day-celebration-2022/
LOCATION:Lucerne Valley\, Lucerne Valley\, CA\, United States
CATEGORIES:Firework Shows
ATTACH;FMTTYPE=image/jpeg:https://sbcfire.org/wp-content/uploads/sites/46/2021/06/06.24.21-Fireworks-Shows-1920x1080-1.jpg
END:VEVENT
BEGIN:VEVENT
DTSTART;TZID=America/Los_Angeles:20220703T210000
DTEND;TZID=America/Los_Angeles:20220703T220000
DTSTAMP:20260421T030756
CREATED:20220629T164644Z
LAST-MODIFIED:20220629T164644Z
UID:10007478-1656882000-1656885600@sbcfire.org
SUMMARY:Lake Arrowhead: Independence Day Celebration 2022
DESCRIPTION:The Arrowhead Lake Association (ALA) presents their annual spectacular fireworks show over Lake Arrowhead on Sunday\, July 3rd at 9pm.
URL:https://sbcfire.org/event/lake-arrowhead-independence-day-celebration-2022/
LOCATION:Lake Arrowhead Village\, 28200 CA-189\, Lake Arrowhead\, CA\, 92352\, United States
CATEGORIES:Firework Shows
ATTACH;FMTTYPE=image/jpeg:https://sbcfire.org/wp-content/uploads/sites/46/2021/06/06.24.21-Fireworks-Shows-1920x1080-1.jpg
END:VEVENT
BEGIN:VEVENT
DTSTART;TZID=America/Los_Angeles:20220629T210000
DTEND;TZID=America/Los_Angeles:20220629T220000
DTSTAMP:20260421T030756
CREATED:20220629T165111Z
LAST-MODIFIED:20220629T165111Z
UID:10007484-1656536400-1656540000@sbcfire.org
SUMMARY:Lake Gregory: Independence Day Celebration 2022
DESCRIPTION:Celebrate Independence Day with a live firework extravaganza!
URL:https://sbcfire.org/event/lake-gregory-independence-day-celebration-2022/
LOCATION:Lake Gregory\, Lake Gregory Dr\, Crestline\, 92325\, United States
CATEGORIES:Firework Shows
ATTACH;FMTTYPE=image/jpeg:https://sbcfire.org/wp-content/uploads/sites/46/2021/06/06.24.21-Fireworks-Shows-1920x1080-1.jpg
GEO:34.243587;-117.267994
X-APPLE-STRUCTURED-LOCATION;VALUE=URI;X-ADDRESS=Lake Gregory Lake Gregory Dr Crestline 92325 United States;X-APPLE-RADIUS=500;X-TITLE=Lake Gregory Dr:geo:-117.267994,34.243587
END:VEVENT
BEGIN:VEVENT
DTSTART;TZID=America/Los_Angeles:20220625T210000
DTEND;TZID=America/Los_Angeles:20220625T213000
DTSTAMP:20260421T030756
CREATED:20220629T165626Z
LAST-MODIFIED:20220629T165626Z
UID:10007487-1656190800-1656192600@sbcfire.org
SUMMARY:Spring Valley Lake: Independence Day Celebration 2022
DESCRIPTION:Food Vendors at the beach\nFireworks will begin at approximately 9:00 pm. \nWest Beach\n13230 Country Club Dr.\nVictorville\, Ca 92395
URL:https://sbcfire.org/event/spring-valley-lake-independence-day-celebration-2022/
LOCATION:CA
CATEGORIES:Firework Shows
ATTACH;FMTTYPE=image/jpeg:https://sbcfire.org/wp-content/uploads/sites/46/2021/06/06.24.21-Fireworks-Shows-1920x1080-1.jpg
END:VEVENT
BEGIN:VEVENT
DTSTART;TZID=America/Los_Angeles:20210704T210000
DTEND;TZID=America/Los_Angeles:20210704T213000
DTSTAMP:20260421T030756
CREATED:20210625T001322Z
LAST-MODIFIED:20210625T001448Z
UID:10005270-1625432400-1625434200@sbcfire.org
SUMMARY:Upland: Independence Day Celebration
DESCRIPTION:Celebrate Independence Day with a live firework extravaganza! \nThe aerial display only will be viewed from street corners\, residents’ backyards. No attendance is allowed. families to stay at home or walk to the corner of their neighborhood\, stand on the curb of their street to be able to view the fireworks show. \nMore information may be found here:\nhttps://www.dailybulletin.com/2021/05/11/upland-fireworks-show-set-for-july-4th-from-rock-quarry/
URL:https://sbcfire.org/event/2021-upland-fireworks/
LOCATION:Holliday Rock Quarry\, 1499 N. Benson Ave\, Upland\, CA\, 91786\, United States
CATEGORIES:Firework Shows
ATTACH;FMTTYPE=image/jpeg:https://sbcfire.org/wp-content/uploads/sites/46/2021/06/06.24.21-Fireworks-Shows-1920x1080-1.jpg
END:VEVENT
BEGIN:VEVENT
DTSTART;TZID=America/Los_Angeles:20210704T210000
DTEND;TZID=America/Los_Angeles:20210704T213000
DTSTAMP:20260421T030756
CREATED:20210624T235722Z
LAST-MODIFIED:20210624T235749Z
UID:10005267-1625432400-1625434200@sbcfire.org
SUMMARY:Yucca Valley: Independence Day Celebration
DESCRIPTION:Come out and celebrate Independence Day with a live firework extravaganza!
URL:https://sbcfire.org/event/20210704-yuccavalley-fireworks/
LOCATION:Brehm Park\, 56640 Little League Dr\, Yucca Valley\, CA\, 92284\, United States
CATEGORIES:Firework Shows
ATTACH;FMTTYPE=image/jpeg:https://sbcfire.org/wp-content/uploads/sites/46/2021/06/06.24.21-Fireworks-Shows-1920x1080-1.jpg
END:VEVENT
BEGIN:VEVENT
DTSTART;TZID=America/Los_Angeles:20210704T210000
DTEND;TZID=America/Los_Angeles:20210704T213000
DTSTAMP:20260421T030756
CREATED:20210624T234644Z
LAST-MODIFIED:20210624T235002Z
UID:10005264-1625432400-1625434200@sbcfire.org
SUMMARY:Twentynine Palms: Independence Day Celebration
DESCRIPTION:
URL:https://sbcfire.org/event/20210704-twentyninepalms-fireworks/
LOCATION:Tortoise Rock Casino\, 73829 Baseline Road\, Twentynine Palms\, CA\, 92277\, United States
CATEGORIES:Firework Shows
ATTACH;FMTTYPE=image/jpeg:https://sbcfire.org/wp-content/uploads/sites/46/2021/06/06.24.21-Fireworks-Shows-1920x1080-1.jpg
END:VEVENT
BEGIN:VEVENT
DTSTART;TZID=America/Los_Angeles:20210704T210000
DTEND;TZID=America/Los_Angeles:20210704T213000
DTSTAMP:20260421T030756
CREATED:20210624T234007Z
LAST-MODIFIED:20210624T234047Z
UID:10005261-1625432400-1625434200@sbcfire.org
SUMMARY:Lake Arrowhead: Independence Day Celebration
DESCRIPTION:Come out and celebrate Independence Day with a live firework extravaganza on the lake!
URL:https://sbcfire.org/event/20210704-lakearrowhead-fireworks/
LOCATION:Lake Arrowhead Village\, 28200 CA-189\, Lake Arrowhead\, CA\, 92352\, United States
CATEGORIES:Firework Shows
ATTACH;FMTTYPE=image/jpeg:https://sbcfire.org/wp-content/uploads/sites/46/2021/06/06.24.21-Fireworks-Shows-1920x1080-1.jpg
END:VEVENT
BEGIN:VEVENT
DTSTART;TZID=America/Los_Angeles:20210703T210000
DTEND;TZID=America/Los_Angeles:20210703T213000
DTSTAMP:20260421T030756
CREATED:20210624T233521Z
LAST-MODIFIED:20210624T233521Z
UID:10005258-1625346000-1625347800@sbcfire.org
SUMMARY:Silver Lakes: Independence Day Celebration
DESCRIPTION:
URL:https://sbcfire.org/event/20210703-silverlakes-fireworks/
LOCATION:Silver Lakes\, Helendale\, United States
CATEGORIES:Firework Shows
ATTACH;FMTTYPE=image/jpeg:https://sbcfire.org/wp-content/uploads/sites/46/2021/06/06.24.21-Fireworks-Shows-1920x1080-1.jpg
GEO:34.736608;-117.355737
END:VEVENT
BEGIN:VEVENT
DTSTART;TZID=America/Los_Angeles:20210703T210000
DTEND;TZID=America/Los_Angeles:20210703T213000
DTSTAMP:20260421T030756
CREATED:20210624T232843Z
LAST-MODIFIED:20210624T232843Z
UID:10005255-1625346000-1625347800@sbcfire.org
SUMMARY:Crestline: Independence Day Celebration
DESCRIPTION:Come out and celebrate Independence Day with a live firework extravaganza on the lake!
URL:https://sbcfire.org/event/20210703-lakegregory-fireworks/
LOCATION:Lake Gregory\, Lake Gregory Dr\, Crestline\, 92325\, United States
CATEGORIES:Firework Shows
ATTACH;FMTTYPE=image/jpeg:https://sbcfire.org/wp-content/uploads/sites/46/2021/06/06.24.21-Fireworks-Shows-1920x1080-1.jpg
GEO:34.243587;-117.267994
X-APPLE-STRUCTURED-LOCATION;VALUE=URI;X-ADDRESS=Lake Gregory Lake Gregory Dr Crestline 92325 United States;X-APPLE-RADIUS=500;X-TITLE=Lake Gregory Dr:geo:-117.267994,34.243587
END:VEVENT
BEGIN:VEVENT
DTSTART;TZID=America/Los_Angeles:20210626T210000
DTEND;TZID=America/Los_Angeles:20210626T213000
DTSTAMP:20260421T030756
CREATED:20210624T223516Z
LAST-MODIFIED:20210624T223622Z
UID:10005252-1624741200-1624743000@sbcfire.org
SUMMARY:Spring Valley Lake: Independence Day Celebration
DESCRIPTION:Come out and celebrate Independence Day with a live firework extravaganza on the lake!
URL:https://sbcfire.org/event/20210626-springvalleylake-fireworks/
LOCATION:Spring Valley Lake Country Club\, 13229 Spring Valley Parkway\, Victorville\, CA\, 92395\, United States
CATEGORIES:Firework Shows
ATTACH;FMTTYPE=image/jpeg:https://sbcfire.org/wp-content/uploads/sites/46/2021/06/06.24.21-Fireworks-Shows-1920x1080-1.jpg
END:VEVENT
END:VCALENDAR