BEGIN:VCALENDAR
VERSION:2.0
PRODID:-//San Bernardino County Fire Protection District - ECPv6.15.14//NONSGML v1.0//EN
CALSCALE:GREGORIAN
METHOD:PUBLISH
X-WR-CALNAME:San Bernardino County Fire Protection District
X-ORIGINAL-URL:https://sbcfire.org
X-WR-CALDESC:Events for San Bernardino County Fire Protection District
REFRESH-INTERVAL;VALUE=DURATION:PT1H
X-Robots-Tag:noindex
X-PUBLISHED-TTL:PT1H
BEGIN:VTIMEZONE
TZID:America/Los_Angeles
BEGIN:DAYLIGHT
TZOFFSETFROM:-0800
TZOFFSETTO:-0700
TZNAME:PDT
DTSTART:20210314T100000
END:DAYLIGHT
BEGIN:STANDARD
TZOFFSETFROM:-0700
TZOFFSETTO:-0800
TZNAME:PST
DTSTART:20211107T090000
END:STANDARD
BEGIN:DAYLIGHT
TZOFFSETFROM:-0800
TZOFFSETTO:-0700
TZNAME:PDT
DTSTART:20220313T100000
END:DAYLIGHT
BEGIN:STANDARD
TZOFFSETFROM:-0700
TZOFFSETTO:-0800
TZNAME:PST
DTSTART:20221106T090000
END:STANDARD
BEGIN:DAYLIGHT
TZOFFSETFROM:-0800
TZOFFSETTO:-0700
TZNAME:PDT
DTSTART:20230312T100000
END:DAYLIGHT
BEGIN:STANDARD
TZOFFSETFROM:-0700
TZOFFSETTO:-0800
TZNAME:PST
DTSTART:20231105T090000
END:STANDARD
END:VTIMEZONE
BEGIN:VEVENT
DTSTART;TZID=America/Los_Angeles:20220703T210000
DTEND;TZID=America/Los_Angeles:20220703T220000
DTSTAMP:20260424T112651
CREATED:20220629T164644Z
LAST-MODIFIED:20220629T164644Z
UID:10007478-1656882000-1656885600@sbcfire.org
SUMMARY:Lake Arrowhead: Independence Day Celebration 2022
DESCRIPTION:The Arrowhead Lake Association (ALA) presents their annual spectacular fireworks show over Lake Arrowhead on Sunday\, July 3rd at 9pm.
URL:https://sbcfire.org/event/lake-arrowhead-independence-day-celebration-2022/
LOCATION:Lake Arrowhead Village\, 28200 CA-189\, Lake Arrowhead\, CA\, 92352\, United States
CATEGORIES:Firework Shows
ATTACH;FMTTYPE=image/jpeg:https://sbcfire.org/wp-content/uploads/sites/46/2021/06/06.24.21-Fireworks-Shows-1920x1080-1.jpg
END:VEVENT
BEGIN:VEVENT
DTSTART;TZID=America/Los_Angeles:20220704T090000
DTEND;TZID=America/Los_Angeles:20220704T103000
DTSTAMP:20260424T112651
CREATED:20220629T165803Z
LAST-MODIFIED:20220629T165803Z
UID:10007490-1656925200-1656930600@sbcfire.org
SUMMARY:Lucerne Valley: Independence Day Celebration 2022
DESCRIPTION:Lucerne Valley 4th of July Parade is back! Please join and cheer on the hometown parade! \nMany local businesses and groups will be walking the route from Trade Post Road to Cafe 247.  You will get a chance to see your 2022/2023 Honorary Mayor and Grand Marshall! \nAfter the parade\, please join in at Pioneer Park for the awards and trophy ceremony at 11am.
URL:https://sbcfire.org/event/lucerne-valley-independence-day-celebration-2022/
LOCATION:Lucerne Valley\, Lucerne Valley\, CA\, United States
CATEGORIES:Firework Shows
ATTACH;FMTTYPE=image/jpeg:https://sbcfire.org/wp-content/uploads/sites/46/2021/06/06.24.21-Fireworks-Shows-1920x1080-1.jpg
END:VEVENT
BEGIN:VEVENT
DTSTART;TZID=America/Los_Angeles:20220704T170000
DTEND;TZID=America/Los_Angeles:20220704T210000
DTSTAMP:20260424T112651
CREATED:20220629T164812Z
LAST-MODIFIED:20220629T164812Z
UID:10007481-1656954000-1656968400@sbcfire.org
SUMMARY:Twentynine Palms: Independence Day Celebration 2022
DESCRIPTION:Join the City of Twentynine Palms for their annual 4th of July Celebration on Monday\, July 4\, starting at 5:00 p.m. This year’s festivities will be over at Knott’s Sky Park\, with tons of free family fun! They are pulling out all the stops with waterslides\, an inflatable obstacle course\, face painting\, free throw contest\, cornhole tournament\, Bizuri ice cream\, food\, music by Z107.7FM\, and so much more! The 4th of July Celebration is the perfect summer event for the whole family and your friend group to enjoy. Stick around for the fireworks display that will light up the night sky at 9:00 p.m. from Tortoise Rock Casino. For more information\, contact the Parks & Recreation Department at (760) 367-7562.
URL:https://sbcfire.org/event/twentynine-palms-independence-day-celebration-2022/
LOCATION:CA
CATEGORIES:Firework Shows
ATTACH;FMTTYPE=image/jpeg:https://sbcfire.org/wp-content/uploads/sites/46/2021/06/06.24.21-Fireworks-Shows-1920x1080-1.jpg
END:VEVENT
BEGIN:VEVENT
DTSTART;TZID=America/Los_Angeles:20220704T173000
DTEND;TZID=America/Los_Angeles:20220704T220000
DTSTAMP:20260424T112651
CREATED:20220627T162023Z
LAST-MODIFIED:20220627T162122Z
UID:10004610-1656955800-1656972000@sbcfire.org
SUMMARY:Upland: Independence Day Celebration 2022
DESCRIPTION:Celebrate Independence Day with a live firework extravaganza! \nJoin the City of Upland for our Annual Light Up The Night 4th of July Fireworks Spectacular! Gates will open at 5:30 p.m. with live entertainment from Electric Vinyl\, the Ultimate Rock Tribute Band\, beginning at 7:00 p.m. Enjoy an evening of family\, friends\, food vendors\, Kids’ Zone\, beer garden\, vendors\, and the opportunity to watch planes of all types take off and land. \nFor ticket information visit: https://www.uplandca.gov/4th-of-july-festivities
URL:https://sbcfire.org/event/upland-independence-day-celebration-2022/
LOCATION:Cable Airport\, 1749 W. 13th St.\, Upland\, CA\, 91786\, United States
CATEGORIES:Firework Shows
ATTACH;FMTTYPE=image/jpeg:https://sbcfire.org/wp-content/uploads/sites/46/2021/06/06.24.21-Fireworks-Shows-1920x1080-1.jpg
END:VEVENT
BEGIN:VEVENT
DTSTART;TZID=America/Los_Angeles:20220704T180000
DTEND;TZID=America/Los_Angeles:20220704T210000
DTSTAMP:20260424T112651
CREATED:20220627T163449Z
LAST-MODIFIED:20220627T163449Z
UID:10004613-1656957600-1656968400@sbcfire.org
SUMMARY:Fontana: Independence Day Celebration 2022
DESCRIPTION:Celebrate Independence Day with a live firework extravaganza! \nFireworks\, food & novelty vendors and music featuring a live performance by Yachtley Crew.
URL:https://sbcfire.org/event/fontana-independence-day-celebration-2022/
LOCATION:Miller Park Ampitheatre\, 17004 Arrow Blvd.\, Fontana\, CA\, 92335\, United States
CATEGORIES:Firework Shows
ATTACH;FMTTYPE=image/jpeg:https://sbcfire.org/wp-content/uploads/sites/46/2021/06/06.24.21-Fireworks-Shows-1920x1080-1.jpg
END:VEVENT
BEGIN:VEVENT
DTSTART;TZID=America/Los_Angeles:20220704T183000
DTEND;TZID=America/Los_Angeles:20220704T213000
DTSTAMP:20260424T112651
CREATED:20220629T164407Z
LAST-MODIFIED:20220629T164437Z
UID:10004616-1656959400-1656970200@sbcfire.org
SUMMARY:Yucca Valley: Independence Day Celebration 2022
DESCRIPTION:In Yucca Valley\, the gates open for a 4th of July celebration at Brehm Park at 6:00 p.m.. The event will feature a free concert and spectacular fireworks show. \nThe concert starts at 6:30 and the fireworks start at 9:00. \nZ107.7 radio will broadcast the patriotic music background for both the Twentynine Palms and the Yucca Valley fireworks shows. Wherever you go to enjoy the fireworks in the Morongo Basin tune your radio to Z107.7 FM to enjoy the full show.
URL:https://sbcfire.org/event/yucca-valley-independence-day-celebration-2022/
LOCATION:Brehm Park\, 56640 Little League Dr\, Yucca Valley\, CA\, 92284\, United States
CATEGORIES:Firework Shows
ATTACH;FMTTYPE=image/jpeg:https://sbcfire.org/wp-content/uploads/sites/46/2021/06/06.24.21-Fireworks-Shows-1920x1080-1.jpg
END:VEVENT
END:VCALENDAR