BEGIN:VCALENDAR
VERSION:2.0
PRODID:-//San Bernardino County Fire Protection District - ECPv6.15.14//NONSGML v1.0//EN
CALSCALE:GREGORIAN
METHOD:PUBLISH
X-WR-CALNAME:San Bernardino County Fire Protection District
X-ORIGINAL-URL:https://sbcfire.org
X-WR-CALDESC:Events for San Bernardino County Fire Protection District
REFRESH-INTERVAL;VALUE=DURATION:PT1H
X-Robots-Tag:noindex
X-PUBLISHED-TTL:PT1H
BEGIN:VTIMEZONE
TZID:America/Los_Angeles
BEGIN:DAYLIGHT
TZOFFSETFROM:-0800
TZOFFSETTO:-0700
TZNAME:PDT
DTSTART:20200308T100000
END:DAYLIGHT
BEGIN:STANDARD
TZOFFSETFROM:-0700
TZOFFSETTO:-0800
TZNAME:PST
DTSTART:20201101T090000
END:STANDARD
BEGIN:DAYLIGHT
TZOFFSETFROM:-0800
TZOFFSETTO:-0700
TZNAME:PDT
DTSTART:20210314T100000
END:DAYLIGHT
BEGIN:STANDARD
TZOFFSETFROM:-0700
TZOFFSETTO:-0800
TZNAME:PST
DTSTART:20211107T090000
END:STANDARD
BEGIN:DAYLIGHT
TZOFFSETFROM:-0800
TZOFFSETTO:-0700
TZNAME:PDT
DTSTART:20220313T100000
END:DAYLIGHT
BEGIN:STANDARD
TZOFFSETFROM:-0700
TZOFFSETTO:-0800
TZNAME:PST
DTSTART:20221106T090000
END:STANDARD
END:VTIMEZONE
BEGIN:VEVENT
DTSTART;TZID=America/Los_Angeles:20211113T090000
DTEND;TZID=America/Los_Angeles:20211113T140000
DTSTAMP:20260419T232911
CREATED:20210707T225329Z
LAST-MODIFIED:20210830T183421Z
UID:57609-1636794000-1636812000@sbcfire.org
SUMMARY:Phelan Used Oil Filter Exchange & Recycling Event
DESCRIPTION:Join the #SBCoFD Household Hazardous Waste team on Saturday\, November 13 \, 2021 from 9 AM to 2 PM at AutoZone\, 4071\, Phelan\, CA 92371 \nBring your Used Oil and Oil Filters to Recycle and Exchange for up to a $15 oil filter voucher! (max 1 voucher per household) 1 used oil filter= 1 filter voucher \nSan Bernardino County residents can receive free funnels\, oil containers and other oil recycling items! (limited quantities) \nOnly San Bernardino County residents. (proof of county residency required) \nCome learn about other San Bernardino County Fire Household Hazardous Programs to help keep our community clean! \nTo be informed of future oil events\, join our mailing list here\n—-> https://bit.ly/3pSqCEy
URL:https://sbcfire.org/event/phelan-used-oil-filter-exchange-event/
LOCATION:AutoZone Phelan\, 4071 Phelan Road\, Phelan\, CA\, 92371\, United States
CATEGORIES:Household Hazardous Waste
ATTACH;FMTTYPE=image/jpeg:https://sbcfire.org/wp-content/uploads/sites/46/2021/06/20210731-hhw.jpg
END:VEVENT
END:VCALENDAR