BEGIN:VCALENDAR
VERSION:2.0
PRODID:-//San Bernardino County Fire Protection District - ECPv6.15.14//NONSGML v1.0//EN
CALSCALE:GREGORIAN
METHOD:PUBLISH
X-WR-CALNAME:San Bernardino County Fire Protection District
X-ORIGINAL-URL:https://sbcfire.org
X-WR-CALDESC:Events for San Bernardino County Fire Protection District
REFRESH-INTERVAL;VALUE=DURATION:PT1H
X-Robots-Tag:noindex
X-PUBLISHED-TTL:PT1H
BEGIN:VTIMEZONE
TZID:America/Los_Angeles
BEGIN:DAYLIGHT
TZOFFSETFROM:-0800
TZOFFSETTO:-0700
TZNAME:PDT
DTSTART:20220313T100000
END:DAYLIGHT
BEGIN:STANDARD
TZOFFSETFROM:-0700
TZOFFSETTO:-0800
TZNAME:PST
DTSTART:20221106T090000
END:STANDARD
BEGIN:DAYLIGHT
TZOFFSETFROM:-0800
TZOFFSETTO:-0700
TZNAME:PDT
DTSTART:20230312T100000
END:DAYLIGHT
BEGIN:STANDARD
TZOFFSETFROM:-0700
TZOFFSETTO:-0800
TZNAME:PST
DTSTART:20231105T090000
END:STANDARD
BEGIN:DAYLIGHT
TZOFFSETFROM:-0800
TZOFFSETTO:-0700
TZNAME:PDT
DTSTART:20240310T100000
END:DAYLIGHT
BEGIN:STANDARD
TZOFFSETFROM:-0700
TZOFFSETTO:-0800
TZNAME:PST
DTSTART:20241103T090000
END:STANDARD
END:VTIMEZONE
BEGIN:VEVENT
DTSTART;TZID=America/Los_Angeles:20231014T090000
DTEND;TZID=America/Los_Angeles:20231014T130000
DTSTAMP:20260423T085725
CREATED:20230829T143540Z
LAST-MODIFIED:20230829T143540Z
UID:102201-1697274000-1697288400@sbcfire.org
SUMMARY:Phelan Household Hazardous Waste Collection
DESCRIPTION:Join the #SBCoFD Household Hazardous Waste (HHW) team on 10/14/23 from 9 AM to 1PM at the CR&R Yard\, 9828 Buckwheat Rd. in Phelan!\nDrop off HHW items such as antifreeze\, electronics\, batteries\, oil\, oil filters\, cosmetics\, pesticides\, and much more!\n\nTransport no more than 15 gallons or 125 lbs in containers larger than 5 gallons with lids. Containers must be sound and not leaking.\nNo business waste\, tires\, yard waste\, asbestos\, & solid waste will be accepted.\nPlease have all waste in the back of the vehicle. (Except sharps/needles should be with driver)\nAvailable only to San Bernardino County Residents. Proof of residency required.\n\nCall 1-800-Oily Cat(645-9228) to learn about all the ways you can help keep our county clean with our #SBCoFDHHW programs
URL:https://sbcfire.org/event/phelan-household-hazardous-waste-collection-2/
LOCATION:CR&R Phelan Yard\, 9828 Buckwheat Road\, Phelan\, CA\, 92371\, United States
CATEGORIES:Household Hazardous Waste
ATTACH;FMTTYPE=image/jpeg:https://sbcfire.org/wp-content/uploads/sites/46/2023/08/N12362-HHW-Tri-Community-10-14-23-Phelan-PROOF-002_Page_1-scaled.jpg
END:VEVENT
END:VCALENDAR