BEGIN:VCALENDAR
VERSION:2.0
PRODID:-//San Bernardino County Fire Protection District - ECPv6.15.14//NONSGML v1.0//EN
CALSCALE:GREGORIAN
METHOD:PUBLISH
X-WR-CALNAME:San Bernardino County Fire Protection District
X-ORIGINAL-URL:https://sbcfire.org
X-WR-CALDESC:Events for San Bernardino County Fire Protection District
REFRESH-INTERVAL;VALUE=DURATION:PT1H
X-Robots-Tag:noindex
X-PUBLISHED-TTL:PT1H
BEGIN:VTIMEZONE
TZID:America/Los_Angeles
BEGIN:DAYLIGHT
TZOFFSETFROM:-0800
TZOFFSETTO:-0700
TZNAME:PDT
DTSTART:20220313T100000
END:DAYLIGHT
BEGIN:STANDARD
TZOFFSETFROM:-0700
TZOFFSETTO:-0800
TZNAME:PST
DTSTART:20221106T090000
END:STANDARD
BEGIN:DAYLIGHT
TZOFFSETFROM:-0800
TZOFFSETTO:-0700
TZNAME:PDT
DTSTART:20230312T100000
END:DAYLIGHT
BEGIN:STANDARD
TZOFFSETFROM:-0700
TZOFFSETTO:-0800
TZNAME:PST
DTSTART:20231105T090000
END:STANDARD
BEGIN:DAYLIGHT
TZOFFSETFROM:-0800
TZOFFSETTO:-0700
TZNAME:PDT
DTSTART:20240310T100000
END:DAYLIGHT
BEGIN:STANDARD
TZOFFSETFROM:-0700
TZOFFSETTO:-0800
TZNAME:PST
DTSTART:20241103T090000
END:STANDARD
END:VTIMEZONE
BEGIN:VEVENT
DTSTART;TZID=America/Los_Angeles:20230722T090000
DTEND;TZID=America/Los_Angeles:20230722T120000
DTSTAMP:20260419T101603
CREATED:20230622T224249Z
LAST-MODIFIED:20230622T224832Z
UID:99616-1690016400-1690027200@sbcfire.org
SUMMARY:LUCERNE VALLEY ABOP COLLECTION
DESCRIPTION:For flyer Information click here: HHW Lucerne Valley ABOP Flyer \n\n\n\n\n\n\n\n\n\n\n\n\nJoin the Household Hazardous Waste (HHW) team on Saturday\, 07/22/23 from 9 AM to 12 PM\nbehind the Lucerne Valley Fire Station 8\,\n33269 Old Woman Springs Rd\, Lucerne Valley\, CA.  (Enter through gate on Ladera Rd)\n\n\nThe following items will ONLY be accepted from San Bernardino County Residents:\n\nAntifreeze\nBatteries (Household and Auto)\nOil and Oil Filters\nLatex Paint\nSharps (in Approved Containers)\nFluorescent Light Bulbs\n\n\nWe Do NOT Accept…\n• Business /Commercial Waste\n• Wastes from foreclosed properties & non-profit organizations\n• Non-San Bernardino County waste\n• No other hazardous waste will be accepted\n\nBefore transporting\, be sure that…\n• Waste is properly labeled or in its original container.\n• The container is no larger than 5 gallons. Transport no more than 15 gallons or 125 lbs.\n• Containers are properly closed\, sound and not leaking.\n• Waste is securely placed in the back of the vehicle for safe transport.\n\nThe following guidelines apply…\n• San Bernardino County Residents ONLY. Identification will be required.\n• No Early Birds (waste brought before 9 :00am will not be accepted).\n• Waste must be accepted by County Fire Protection District personnel\n\n Help keep our County clean with our HHW program!!!!\n\n\nFor questions or more information\, contact: \nSan Bernardino County Fire Protection District\, \nHousehold Hazardous Waste Program \n1.800.OILY.CAT (645.9228) or 909.382.5401 \nVisit: Sbcfire.org/hhw 
URL:https://sbcfire.org/event/lucerne-valley-abop-collection/
LOCATION:Lucerne Valley Fire Station\, 33269 Old Woman Springs Road\, Lucerne Valey\, CA\, 92356\, United States
CATEGORIES:Household Hazardous Waste
ATTACH;FMTTYPE=image/jpeg:https://sbcfire.org/wp-content/uploads/sites/46/2023/06/Lucerne-Valley-ABOP-Flyer-scaled.jpg
END:VEVENT
END:VCALENDAR