BEGIN:VCALENDAR
VERSION:2.0
PRODID:-//San Bernardino County Fire Protection District - ECPv6.15.14//NONSGML v1.0//EN
CALSCALE:GREGORIAN
METHOD:PUBLISH
X-WR-CALNAME:San Bernardino County Fire Protection District
X-ORIGINAL-URL:https://sbcfire.org
X-WR-CALDESC:Events for San Bernardino County Fire Protection District
REFRESH-INTERVAL;VALUE=DURATION:PT1H
X-Robots-Tag:noindex
X-PUBLISHED-TTL:PT1H
BEGIN:VTIMEZONE
TZID:America/Los_Angeles
BEGIN:DAYLIGHT
TZOFFSETFROM:-0800
TZOFFSETTO:-0700
TZNAME:PDT
DTSTART:20220313T100000
END:DAYLIGHT
BEGIN:STANDARD
TZOFFSETFROM:-0700
TZOFFSETTO:-0800
TZNAME:PST
DTSTART:20221106T090000
END:STANDARD
BEGIN:DAYLIGHT
TZOFFSETFROM:-0800
TZOFFSETTO:-0700
TZNAME:PDT
DTSTART:20230312T100000
END:DAYLIGHT
BEGIN:STANDARD
TZOFFSETFROM:-0700
TZOFFSETTO:-0800
TZNAME:PST
DTSTART:20231105T090000
END:STANDARD
BEGIN:DAYLIGHT
TZOFFSETFROM:-0800
TZOFFSETTO:-0700
TZNAME:PDT
DTSTART:20240310T100000
END:DAYLIGHT
BEGIN:STANDARD
TZOFFSETFROM:-0700
TZOFFSETTO:-0800
TZNAME:PST
DTSTART:20241103T090000
END:STANDARD
END:VTIMEZONE
BEGIN:VEVENT
DTSTART;TZID=America/Los_Angeles:20230917T090000
DTEND;TZID=America/Los_Angeles:20230917T140000
DTSTAMP:20260419T101940
CREATED:20230731T210740Z
LAST-MODIFIED:20230731T210740Z
UID:101280-1694941200-1694959200@sbcfire.org
SUMMARY:Loma Linda Used Oil Filter Exchange & Recycling Event
DESCRIPTION:For flyer information click here:  Loma Linda OFE English-Spanish  \nBring Used Oil Filters to Recycle and Exchange for one New Oil Filter Voucher Up to $15 Free! \nEVENT LOCATION:\nO’Reilly Auto Parts\n25630 Redlands Blvd\, Loma Linda Ca\, 92354 \nKeep in mind… \n\nOne $15 oil filter voucher per household maximum (limited supply)\nExpiration: 2 p.m. Sunday\, September 17\,2023\nValid only at the address of the event\nNo exchange or cash refund after event\nRecycle oil filter safely: drain for 12 hours and transport in non-leaking container or bag\nAvailable to San Bernardino County residents only – bring ID or utility bill for verification\n\nFor information\, call 909.382.5401 or 1.800.Oily Cat (645.9228) or visit sbcfire.org/hhw
URL:https://sbcfire.org/event/loma-linda-used-oil-filter-exchange-recycling-event/
LOCATION:O’Reilly Auto parts\, 25630 Redlands Blvd\, Loma Linda\, 92354
CATEGORIES:Household Hazardous Waste
ATTACH;FMTTYPE=image/jpeg:https://sbcfire.org/wp-content/uploads/sites/46/2022/05/52235-HHW-Generic-Social-Media-Graphics-FB19.jpg
END:VEVENT
END:VCALENDAR