BEGIN:VCALENDAR
VERSION:2.0
PRODID:-//San Bernardino County Fire Protection District - ECPv6.15.14//NONSGML v1.0//EN
CALSCALE:GREGORIAN
METHOD:PUBLISH
X-WR-CALNAME:San Bernardino County Fire Protection District
X-ORIGINAL-URL:https://sbcfire.org
X-WR-CALDESC:Events for San Bernardino County Fire Protection District
REFRESH-INTERVAL;VALUE=DURATION:PT1H
X-Robots-Tag:noindex
X-PUBLISHED-TTL:PT1H
BEGIN:VTIMEZONE
TZID:America/Los_Angeles
BEGIN:DAYLIGHT
TZOFFSETFROM:-0800
TZOFFSETTO:-0700
TZNAME:PDT
DTSTART:20200308T100000
END:DAYLIGHT
BEGIN:STANDARD
TZOFFSETFROM:-0700
TZOFFSETTO:-0800
TZNAME:PST
DTSTART:20201101T090000
END:STANDARD
BEGIN:DAYLIGHT
TZOFFSETFROM:-0800
TZOFFSETTO:-0700
TZNAME:PDT
DTSTART:20210314T100000
END:DAYLIGHT
BEGIN:STANDARD
TZOFFSETFROM:-0700
TZOFFSETTO:-0800
TZNAME:PST
DTSTART:20211107T090000
END:STANDARD
BEGIN:DAYLIGHT
TZOFFSETFROM:-0800
TZOFFSETTO:-0700
TZNAME:PDT
DTSTART:20220313T100000
END:DAYLIGHT
BEGIN:STANDARD
TZOFFSETFROM:-0700
TZOFFSETTO:-0800
TZNAME:PST
DTSTART:20221106T090000
END:STANDARD
END:VTIMEZONE
BEGIN:VEVENT
DTSTART;TZID=America/Los_Angeles:20210522T080000
DTEND;TZID=America/Los_Angeles:20210522T120000
DTSTAMP:20260420T004401
CREATED:20210423T212408Z
LAST-MODIFIED:20210423T212522Z
UID:50553-1621670400-1621684800@sbcfire.org
SUMMARY:Grand Terrace Household Hazardous Waste Collection
DESCRIPTION:Join the #SBCoFD Household Hazardous Waste(HHW) team on 5/22/2021 from 8 AM to 12 PM at the Grand Terrace City Hall\, 22795 Barton Rd.\, Grand Terrace\, CA. \n\nDrop off HHW items such as antifreeze\, electronics\, batteries\, oil\, oil filters\, cosmetics\, pesticides\, and much more!\nVisit Greensb.net for a full list of accepted/non-accepted items.\nTransport no more than 15 gallons or 125 lbs in containers larger than 5 gallons with lids. Containers must be sound and not leaking.\nNo business waste\, tires\, yard waste\, asbestos\, and solid waste will be accepted. Masks are required.\nPlease have all waste in the back of the vehicle.(Except sharps/needles should be with driver)\nAvailable only to San Bernardino County Residents. Proof of residency required.\nCall 1-800-Oily Cat (1-800-645-9228) or visit Greensb.net to learn about all the ways you can help keep our county clean with our #SBCoFDHHW programs
URL:https://sbcfire.org/event/hhw-grandterrace-20210522/
LOCATION:Grand Terrace City Hall\, 22795 Barton Rd.\, Grand Terrace\, CA\, 92313\, United States
CATEGORIES:Household Hazardous Waste
END:VEVENT
END:VCALENDAR