BEGIN:VCALENDAR
VERSION:2.0
PRODID:-//San Bernardino County Fire Protection District - ECPv6.15.14//NONSGML v1.0//EN
CALSCALE:GREGORIAN
METHOD:PUBLISH
X-WR-CALNAME:San Bernardino County Fire Protection District
X-ORIGINAL-URL:https://sbcfire.org
X-WR-CALDESC:Events for San Bernardino County Fire Protection District
REFRESH-INTERVAL;VALUE=DURATION:PT1H
X-Robots-Tag:noindex
X-PUBLISHED-TTL:PT1H
BEGIN:VTIMEZONE
TZID:America/Los_Angeles
BEGIN:DAYLIGHT
TZOFFSETFROM:-0800
TZOFFSETTO:-0700
TZNAME:PDT
DTSTART:20220313T100000
END:DAYLIGHT
BEGIN:STANDARD
TZOFFSETFROM:-0700
TZOFFSETTO:-0800
TZNAME:PST
DTSTART:20221106T090000
END:STANDARD
BEGIN:DAYLIGHT
TZOFFSETFROM:-0800
TZOFFSETTO:-0700
TZNAME:PDT
DTSTART:20230312T100000
END:DAYLIGHT
BEGIN:STANDARD
TZOFFSETFROM:-0700
TZOFFSETTO:-0800
TZNAME:PST
DTSTART:20231105T090000
END:STANDARD
BEGIN:DAYLIGHT
TZOFFSETFROM:-0800
TZOFFSETTO:-0700
TZNAME:PDT
DTSTART:20240310T100000
END:DAYLIGHT
BEGIN:STANDARD
TZOFFSETFROM:-0700
TZOFFSETTO:-0800
TZNAME:PST
DTSTART:20241103T090000
END:STANDARD
END:VTIMEZONE
BEGIN:VEVENT
DTSTART;TZID=America/Los_Angeles:20230610T090000
DTEND;TZID=America/Los_Angeles:20230610T140000
DTSTAMP:20260419T121007
CREATED:20230501T220131Z
LAST-MODIFIED:20230501T220131Z
UID:96580-1686387600-1686405600@sbcfire.org
SUMMARY:Grand Terrace Used Oil Filter Exchange & Recycling Event
DESCRIPTION:  \nHHW Grand Terrace-English- Spanish Flyer \n \nBring Used Oil Filters to Recycle and Exchange for one New Oil Filter Voucher Up to $15 Free! \nEVENT LOCATION:\nAutoZone\n22203 Barton Road\nGrand Terrace\, CA 92313 \nKeep in mind… \n\nOne $15 oil filter voucher per household maximum (limited supply)\nExpiration: 2 p.m. Saturday\, June 10\, 2023\nValid only at the address of the event\nNo exchange or cash refund after event\nRecycle oil filter safely: drain for 12 hours and transport in non-leaking container or bag\nAvailable to San Bernardino County residents only – bring ID or utility bill for verification\n\nFor information\, call 909.382.5401 or 1.800.Oily Cat (645.9228) or visit sbcfire.org/hhw
URL:https://sbcfire.org/event/grand-terrace-used-oil-filter-exchange-recycling-event-2/
LOCATION:AutoZone Grand Terrace\, 22203 Barton Rd.\, Grand Terrace\, CA\, 92313\, United States
CATEGORIES:Household Hazardous Waste
END:VEVENT
END:VCALENDAR