BEGIN:VCALENDAR
VERSION:2.0
PRODID:-//San Bernardino County Fire Protection District - ECPv6.15.14//NONSGML v1.0//EN
CALSCALE:GREGORIAN
METHOD:PUBLISH
X-WR-CALNAME:San Bernardino County Fire Protection District
X-ORIGINAL-URL:https://sbcfire.org
X-WR-CALDESC:Events for San Bernardino County Fire Protection District
REFRESH-INTERVAL;VALUE=DURATION:PT1H
X-Robots-Tag:noindex
X-PUBLISHED-TTL:PT1H
BEGIN:VTIMEZONE
TZID:America/Los_Angeles
BEGIN:DAYLIGHT
TZOFFSETFROM:-0800
TZOFFSETTO:-0700
TZNAME:PDT
DTSTART:20220313T100000
END:DAYLIGHT
BEGIN:STANDARD
TZOFFSETFROM:-0700
TZOFFSETTO:-0800
TZNAME:PST
DTSTART:20221106T090000
END:STANDARD
BEGIN:DAYLIGHT
TZOFFSETFROM:-0800
TZOFFSETTO:-0700
TZNAME:PDT
DTSTART:20230312T100000
END:DAYLIGHT
BEGIN:STANDARD
TZOFFSETFROM:-0700
TZOFFSETTO:-0800
TZNAME:PST
DTSTART:20231105T090000
END:STANDARD
BEGIN:DAYLIGHT
TZOFFSETFROM:-0800
TZOFFSETTO:-0700
TZNAME:PDT
DTSTART:20240310T100000
END:DAYLIGHT
BEGIN:STANDARD
TZOFFSETFROM:-0700
TZOFFSETTO:-0800
TZNAME:PST
DTSTART:20241103T090000
END:STANDARD
END:VTIMEZONE
BEGIN:VEVENT
DTSTART;VALUE=DATE:20231203
DTEND;VALUE=DATE:20231207
DTSTAMP:20260419T122621
CREATED:20231129T234305Z
LAST-MODIFIED:20231201T213803Z
UID:10008765-1701561600-1701907199@sbcfire.org
SUMMARY:as a mark of respect for the 14 lives taken from us on December 2\, 2015
DESCRIPTION:At the direction of the Chair of the Board of the Board of Supervisors\, flags flying at all County facilities are to be lowered to half-staff all day on Friday\, December 1\, through sunset on Monday\, December 4\, as a mark of respect for the 14 lives taken from us on December 2\, 2015.
URL:https://sbcfire.org/event/at-the-direction-of-the-chair-of-the-board-of-the-board-of-supervisors-flags-flying-at-all-county-facilities-are-to-be-lowered-to-half-staff-all-day-on-friday-december-1-through-sunset-on-monday-d/2023-12-03/
CATEGORIES:Flag Status
END:VEVENT
END:VCALENDAR