BEGIN:VCALENDAR
VERSION:2.0
PRODID:-//San Bernardino County Fire Protection District - ECPv6.15.14//NONSGML v1.0//EN
CALSCALE:GREGORIAN
METHOD:PUBLISH
X-WR-CALNAME:San Bernardino County Fire Protection District
X-ORIGINAL-URL:https://sbcfire.org
X-WR-CALDESC:Events for San Bernardino County Fire Protection District
REFRESH-INTERVAL;VALUE=DURATION:PT1H
X-Robots-Tag:noindex
X-PUBLISHED-TTL:PT1H
BEGIN:VTIMEZONE
TZID:America/Los_Angeles
BEGIN:DAYLIGHT
TZOFFSETFROM:-0800
TZOFFSETTO:-0700
TZNAME:PDT
DTSTART:20230312T100000
END:DAYLIGHT
BEGIN:STANDARD
TZOFFSETFROM:-0700
TZOFFSETTO:-0800
TZNAME:PST
DTSTART:20231105T090000
END:STANDARD
BEGIN:DAYLIGHT
TZOFFSETFROM:-0800
TZOFFSETTO:-0700
TZNAME:PDT
DTSTART:20240310T100000
END:DAYLIGHT
BEGIN:STANDARD
TZOFFSETFROM:-0700
TZOFFSETTO:-0800
TZNAME:PST
DTSTART:20241103T090000
END:STANDARD
BEGIN:DAYLIGHT
TZOFFSETFROM:-0800
TZOFFSETTO:-0700
TZNAME:PDT
DTSTART:20250309T100000
END:DAYLIGHT
BEGIN:STANDARD
TZOFFSETFROM:-0700
TZOFFSETTO:-0800
TZNAME:PST
DTSTART:20251102T090000
END:STANDARD
END:VTIMEZONE
BEGIN:VEVENT
DTSTART;TZID=America/Los_Angeles:20240123T180000
DTEND;TZID=America/Los_Angeles:20240123T200000
DTSTAMP:20260419T082558
CREATED:20240118T194143Z
LAST-MODIFIED:20240124T005818Z
UID:105708-1706032800-1706040000@sbcfire.org
SUMMARY:City of Needles: Public Notice
DESCRIPTION:PUBLIC NOTICE FOR CITY OF NEEDLES \nJoin us for the City of Needles City Council meeting. The event is open to the public. \nThe San Bernardino County Fire Chief will present information regarding Service Zone FP-5 and proposed Measure W. After the presentation\, the Fire Chief and his staff will be available to answer questions from the public. \nFurther information regarding the FP-5 Service Zone and proposed Measure W is available at sbcfire.org/fp5.
URL:https://sbcfire.org/event/20240123/
LOCATION:Needles City Council\, 817 Third Street\, Needles\, CA\, 92363\, United States
CATEGORIES:Community Meeting
ATTACH;FMTTYPE=image/jpeg:https://sbcfire.org/wp-content/uploads/sites/46/2024/01/01.23.24-Needles-City-Council-1920x1005-1.jpg
END:VEVENT
END:VCALENDAR