BEGIN:VCALENDAR
VERSION:2.0
PRODID:-//San Bernardino County Fire Protection District - ECPv6.15.14//NONSGML v1.0//EN
CALSCALE:GREGORIAN
METHOD:PUBLISH
X-WR-CALNAME:San Bernardino County Fire Protection District
X-ORIGINAL-URL:https://sbcfire.org
X-WR-CALDESC:Events for San Bernardino County Fire Protection District
REFRESH-INTERVAL;VALUE=DURATION:PT1H
X-Robots-Tag:noindex
X-PUBLISHED-TTL:PT1H
BEGIN:VTIMEZONE
TZID:America/Los_Angeles
BEGIN:DAYLIGHT
TZOFFSETFROM:-0800
TZOFFSETTO:-0700
TZNAME:PDT
DTSTART:20200308T100000
END:DAYLIGHT
BEGIN:STANDARD
TZOFFSETFROM:-0700
TZOFFSETTO:-0800
TZNAME:PST
DTSTART:20201101T090000
END:STANDARD
BEGIN:DAYLIGHT
TZOFFSETFROM:-0800
TZOFFSETTO:-0700
TZNAME:PDT
DTSTART:20210314T100000
END:DAYLIGHT
BEGIN:STANDARD
TZOFFSETFROM:-0700
TZOFFSETTO:-0800
TZNAME:PST
DTSTART:20211107T090000
END:STANDARD
BEGIN:DAYLIGHT
TZOFFSETFROM:-0800
TZOFFSETTO:-0700
TZNAME:PDT
DTSTART:20220313T100000
END:DAYLIGHT
BEGIN:STANDARD
TZOFFSETFROM:-0700
TZOFFSETTO:-0800
TZNAME:PST
DTSTART:20221106T090000
END:STANDARD
END:VTIMEZONE
BEGIN:VEVENT
DTSTART;TZID=America/Los_Angeles:20210731T090000
DTEND;TZID=America/Los_Angeles:20210731T140000
DTSTAMP:20260420T031649
CREATED:20210618T232530Z
LAST-MODIFIED:20210714T150604Z
UID:56318-1627722000-1627740000@sbcfire.org
SUMMARY:Hesperia Used Oil Filter Exchange & Recycling Event
DESCRIPTION:Join the #SBCoFD Household Hazardous Waste team on Saturday\, July 31\, 2021 from 9 AM to 2 PM at O’Reilly Auto Parts\, 17070 Main Street\, Hesperia\, CA\, 92345! \nBring your Used Oil Filters to the participating O’Reilly Auto Parts to Recycle and Exchange for up to a $15 oil filter voucher to be redeemed by 2 PM! (max 1 voucher per household) \nOil will be accepted & oil change kits will be provided. (limited supply) \nMasks are required. Proof of San Bernardino County residency required. Any resident from San Bernardino County can participate. \nFor more information\, call 1-800-Oily Cat(645-9228) or visit sbcfire.org/hhw.
URL:https://sbcfire.org/event/20210731-hhw/
LOCATION:O’Reilly Auto Parts – Hesperia\, 17070 Main Street\, Hesperia\, CA\, 92345\, United States
CATEGORIES:Household Hazardous Waste
ATTACH;FMTTYPE=image/jpeg:https://sbcfire.org/wp-content/uploads/sites/46/2021/06/20210731-hhw.jpg
END:VEVENT
END:VCALENDAR